BEGIN:VCALENDAR
VERSION:2.0
PRODID:-//entrinsik//Enrole//EN
METHOD:PUBLISH
X-MS-OLK-FORCEINSPECTOROPEN:TRUE
BEGIN:VTIMEZONE
TZID:America/Chicago
BEGIN:STANDARD
DTSTART:20260308T020000
TZOFFSETFROM:-0600
TZOFFSETTO:-0500
END:STANDARD
BEGIN:DAYLIGHT
DTSTART:20261101T020000
TZOFFSETFROM:-0500
TZOFFSETTO:-0600
END:DAYLIGHT
END:VTIMEZONE
BEGIN:VEVENT
UID:20260425T103914Z-BD9E9068
PRIORITY:5
CLASS:PUBLIC
TRANSP:OPAQUE
SEQUENCE:0
DTSTAMP:20260425T103914Z
DTSTART;TZID=America/Chicago:20260601T180000
DTEND;TZID=America/Chicago:20260601T200000
RRULE:FREQ=WEEKLY;COUNT=8;INTERVAL=1;BYDAY=MO
DESCRIPTION:Event Description:\n\nConversational Spanish - Beginners 3 Level \n\nThis course allows students to complete the beginner's level and is also an introduction to advanced level concepts. As with the previous course, this focuses on live in-class conversations, while students continue to build vocabulary and grammar skills by working on written exercises and audios, for homework. \n\nEvent Schedule:\n\nEvery week on Monday, starting on 06/01/26 and ending on 07/20/26\n\nEvent Location:\n\nOnline\nBox 1084 \nEdwardsville, IL 62026\n
LOCATION:Online, Box 1084, Edwardsville, IL, 62026
SUMMARY:Conversational Spanish - Beginners 3 Level
BEGIN:VALARM
TRIGGER:-P1D
REPEAT:4
DURATION:PT6H
ACTION:DISPLAY
END:VALARM
END:VEVENT
END:VCALENDAR