BEGIN:VCALENDAR
VERSION:2.0
PRODID:-//entrinsik//Enrole//EN
METHOD:PUBLISH
X-MS-OLK-FORCEINSPECTOROPEN:TRUE
BEGIN:VTIMEZONE
TZID:America/New_York
BEGIN:STANDARD
DTSTART:20260308T020000
TZOFFSETFROM:-0500
TZOFFSETTO:-0400
END:STANDARD
BEGIN:DAYLIGHT
DTSTART:20261101T020000
TZOFFSETFROM:-0400
TZOFFSETTO:-0500
END:DAYLIGHT
END:VTIMEZONE
BEGIN:VEVENT
UID:20260424T220705Z-7E9BE828
PRIORITY:5
CLASS:PUBLIC
TRANSP:OPAQUE
SEQUENCE:0
DTSTAMP:20260424T220705Z
DTSTART;TZID=America/New_York:20260427T070000
DTEND;TZID=America/New_York:20260427T130000
RRULE:FREQ=DAILY;COUNT=6;INTERVAL=1
EXDATE;VALUE=DATE:20260427
DESCRIPTION:Event Description:\n\nCDL Driving Test A or B (Customer Vehicle)\n\nPinellas Technical College offers third party testing contracted through the state to obtain all CDL license classes.\n\nEvent Schedule:\n\nThis is a two hour test administered by PTC staff. Please select a day/time to take your test under "Add-Ons" below. You may reserve and pay for use of a PTC truck for your test below as well.\n\nEvent Location:\n\nPTC St. Petersburg Campus, BLDG 5, RM 100\n901 34th Street South\nSt. Petersburg, FL 33711\n
LOCATION:PTC St. Petersburg Campus, BLDG 5, RM 100, 901 34th Street South, St. Petersburg, FL, 33711
SUMMARY:PTC training session: CDL Driving Test A or B (Customer Vehicle)
BEGIN:VALARM
TRIGGER:-P1D
REPEAT:4
DURATION:PT6H
ACTION:DISPLAY
END:VALARM
END:VEVENT
END:VCALENDAR