BEGIN:VCALENDAR
VERSION:2.0
PRODID:-//entrinsik//Enrole//EN
METHOD:PUBLISH
X-MS-OLK-FORCEINSPECTOROPEN:TRUE
BEGIN:VTIMEZONE
TZID:America/New_York
BEGIN:STANDARD
DTSTART:20260308T020000
TZOFFSETFROM:-0500
TZOFFSETTO:-0400
END:STANDARD
BEGIN:DAYLIGHT
DTSTART:20261101T020000
TZOFFSETFROM:-0400
TZOFFSETTO:-0500
END:DAYLIGHT
END:VTIMEZONE
BEGIN:VEVENT
UID:20260422T163614Z-412E0EC8
PRIORITY:5
CLASS:PUBLIC
TRANSP:OPAQUE
SEQUENCE:0
DTSTAMP:20260422T163614Z
DTSTART;TZID=America/New_York:20260608T090000
DTEND;TZID=America/New_York:20260608T120000
RRULE:FREQ=WEEKLY;COUNT=3;INTERVAL=1;BYDAY=MO,TU,WE
DESCRIPTION:Event Description:\n\nAutomotive Technology Summer Camp\n\nStudents will learn and practice several diagnostic and automotive maintenance and repair skills.\n\nEvent Schedule:\n\nEvery week on Monday, Tuesday and Wednesday, starting on 06/08/26 and ending on 06/10/26\n\nEvent Location:\n\nPinellas Technical College \n6100 154th Avenue North\nClearwater, FL 33760\n
LOCATION:Pinellas Technical College , 6100 154th Avenue North, Clearwater, FL, 33760
SUMMARY:PTC training session: Automotive Technology Summer Camp
BEGIN:VALARM
TRIGGER:-P1D
REPEAT:4
DURATION:PT6H
ACTION:DISPLAY
END:VALARM
END:VEVENT
END:VCALENDAR