BEGIN:VCALENDAR
VERSION:2.0
PRODID:-//entrinsik//Enrole//EN
METHOD:PUBLISH
X-MS-OLK-FORCEINSPECTOROPEN:TRUE
BEGIN:VTIMEZONE
TZID:America/Chicago
BEGIN:STANDARD
DTSTART:20260308T020000
TZOFFSETFROM:-0600
TZOFFSETTO:-0500
END:STANDARD
BEGIN:DAYLIGHT
DTSTART:20261101T020000
TZOFFSETFROM:-0500
TZOFFSETTO:-0600
END:DAYLIGHT
END:VTIMEZONE
BEGIN:VEVENT
UID:20260424T025613Z-21711060
PRIORITY:5
CLASS:PUBLIC
TRANSP:OPAQUE
SEQUENCE:0
DTSTAMP:20260424T025613Z
DTSTART;TZID=America/Chicago:20260828T080000
DTEND;TZID=America/Chicago:20260828T200000
RRULE:FREQ=DAILY;COUNT=3;INTERVAL=1
DESCRIPTION:Event Description:\n\nChiropractic Acupuncture Hybrid Certificate #1 of 4 \n\n<title></title><p>This 23-hour session and its six-hour online component serves as an introduction to acupuncture. You will access the online portion of the training in our Moodle platform. This is the outline for the in person part of the training.</p><p></p><p class="MsoNormal" style="margin-bottom:8.0pt;line-height:105%"><b><span style="font-family:&quot;Cambria&quot;,serif">3.0 Hours:</span></b><span style="font-family:&quot;Cambria&quot;,serif">&nbsp;&nbsp;&nbsp;&nbsp;&nbsp;&nbsp;&nbsp;&nbsp;&nbsp;&nbsp;Back Shu, Front Mu (Alarm) points, Laws of Excess and Deficiency, PulseDiagnosis, Imbalances in nature and the change of seasons and the influencesthat they have on the human body.&nbsp; Practical demonstration of commonlyused acupuncture points and patterns including Dr. Jon Sunderladge's patterns Iand II.<o:p></o:p></span></p><p class="MsoNormal" style="line-height:105%"><u><span style="font-family:&quot;Cambria&quot;,serif">CleanNeedle Technique<o:p></o:p></span></u></p><p class="MsoNormal" style="margin-bottom:8.0pt;line-height:105%"><a name="OLE_LINK1"><b><span style="font-family:&quot;Cambria&quot;,serif">1.0 Hours</span></b></a><span style="mso-bookmark:OLE_LINK1"><span style="font-family:&quot;Cambria&quot;,serif">: </span></span><span style="font-family:&quot;Cambria&quot;,serif">&nbsp;&nbsp;&nbsp;&nbsp;&nbsp;&nbsp;&nbsp;&nbsp;&nbsp;<a name="_Hlk524031046">Clean needle technique (CNT) is demonstrated andpracticed; emphasis is placed on safety, hygiene, proper needle sterilizationand disposal of bio-hazardous waste. </a><o:p></o:p></span></p><p class="MsoNormal" style="margin-bottom:8.0pt;line-height:105%"><b><span style="font-family:&quot;Cambria&quot;,serif">2.0 Hours</span></b><span style="font-family:&quot;Cambria&quot;,serif">: &nbsp;&nbsp;&nbsp;&nbsp;&nbsp;&nbsp;&nbsp;&nbsp;&nbsp;Examinations (practical) on clean needle safety and hygiene.<o:p></o:p></span></p><p class="MsoNormal"><u><span style="font-family:&quot;Cambria&quot;,serif">Meridians I<o:p></o:p></span></u></p><p class="MsoNormal" style="margin-bottom:8.0pt;line-height:105%"><b><span style="font-family:&quot;Cambria&quot;,serif">2.0<i> </i>Hours:</span></b><span style="font-family:&quot;Cambria&quot;,serif">&nbsp;&nbsp;&nbsp;&nbsp;&nbsp;&nbsp;&nbsp;&nbsp;&nbsp; Twelve main meridianlocations, function and usage are described.&nbsp; <o:p></o:p></span></p><p class="MsoNormal" style="margin-bottom:8.0pt;line-height:105%"><b><span style="font-family:&quot;Cambria&quot;,serif">15.0 Hours</span></b><span style="font-family:&quot;Cambria&quot;,serif">:&nbsp;&nbsp;&nbsp;&nbsp;&nbsp;&nbsp;&nbsp;&nbsp;Twelve main meridians aredescribed with emphasis on CV, GV, LU, LI, ST, SP, HT, SI.&nbsp; Discussion ofmeridian pathways (superficial and deep), location of their acu-points andclinical applications. Extensive supervised laboratory practicum, which willprovide attendees with hands-on time to practice point location and properneedle insertion techniques.<o:p></o:p></span></p><br><p></p> \n\nEvent Schedule:\n\n23 CE hours (+6 online), On campus, August 28-30, 2026, Fri, 4pm-8pm, Sat, 8am-6pm, Sun, 8am-5pm\n\nEvent Location:\n\nNorthwestern Health Sciences University\n2501 W 84th S \nBloomington, MN 55431\n
LOCATION:Northwestern Health Sciences University, 2501 W 84th S, Bloomington, MN, 55431
SUMMARY:NW Health training session: Chiropractic Acupuncture Hybrid Certificate #1 of 4
BEGIN:VALARM
TRIGGER:-P1D
REPEAT:4
DURATION:PT6H
ACTION:DISPLAY
END:VALARM
END:VEVENT
BEGIN:VEVENT
CLASS:PUBLIC
CREATED:20260424T025613Z
DTSTAMP:20260424T025613Z
LAST-MODIFIED:20260424T025613Z
DTSTART:20260828T160000
DTEND:20260828T200000
PRIORITY:5
RECURRENCE-ID:20260828
SEQUENCE:0
TRANSP:OPAQUE
UID:20260424T025613Z-21711060
END:VEVENT
BEGIN:VEVENT
CLASS:PUBLIC
CREATED:20260424T025613Z
DTSTAMP:20260424T025613Z
LAST-MODIFIED:20260424T025613Z
DTSTART:20260829T080000
DTEND:20260829T180000
PRIORITY:5
RECURRENCE-ID:20260829
SEQUENCE:1
TRANSP:OPAQUE
UID:20260424T025613Z-21711060
END:VEVENT
BEGIN:VEVENT
CLASS:PUBLIC
CREATED:20260424T025613Z
DTSTAMP:20260424T025613Z
LAST-MODIFIED:20260424T025613Z
DTSTART:20260830T080000
DTEND:20260830T170000
PRIORITY:5
RECURRENCE-ID:20260830
SEQUENCE:2
TRANSP:OPAQUE
UID:20260424T025613Z-21711060
END:VEVENT
END:VCALENDAR