BEGIN:VCALENDAR
VERSION:2.0
PRODID:-//entrinsik//Enrole//EN
METHOD:PUBLISH
X-MS-OLK-FORCEINSPECTOROPEN:TRUE
BEGIN:VTIMEZONE
TZID:America/New_York
BEGIN:STANDARD
DTSTART:20260308T020000
TZOFFSETFROM:-0500
TZOFFSETTO:-0400
END:STANDARD
BEGIN:DAYLIGHT
DTSTART:20261101T020000
TZOFFSETFROM:-0400
TZOFFSETTO:-0500
END:DAYLIGHT
END:VTIMEZONE
BEGIN:VEVENT
UID:20260420T071655Z-DF072C8
PRIORITY:5
CLASS:PUBLIC
TRANSP:OPAQUE
SEQUENCE:0
DTSTAMP:20260420T071655Z
DTSTART;TZID=America/New_York:20260518T190000
DTEND;TZID=America/New_York:20260518T220500
RRULE:FREQ=WEEKLY;COUNT=28;INTERVAL=1;BYDAY=MO,WE
EXDATE;VALUE=DATE:20260525
DESCRIPTION:Event Description:\n\nReal Estate Salesperson's Qualifying Course\n\nRE Salesperson's Course\n\nEvent Schedule:\n\nMondays & Wednesdays (27 sessions, 77 hours plus exam), May 18 - August 19, (no class 5/25), 7:00 p.m. - 10:05 p.m. in-person.\n\nEvent Location:\n\nCasey 111\n1000 Hempstead Ave\nRockville Centre, NY 11570\n
LOCATION:Casey 111, 1000 Hempstead Ave, Rockville Centre, NY, 11570
SUMMARY:Molloy Session: Real Estate Salesperson's Qualifying Course
BEGIN:VALARM
TRIGGER:-P1D
REPEAT:4
DURATION:PT6H
ACTION:DISPLAY
END:VALARM
END:VEVENT
END:VCALENDAR