BEGIN:VCALENDAR
VERSION:2.0
PRODID:-//entrinsik//Enrole//EN
METHOD:PUBLISH
X-MS-OLK-FORCEINSPECTOROPEN:TRUE
BEGIN:VTIMEZONE
TZID:America/New_York
BEGIN:STANDARD
DTSTART:20260308T020000
TZOFFSETFROM:-0500
TZOFFSETTO:-0400
END:STANDARD
BEGIN:DAYLIGHT
DTSTART:20261101T020000
TZOFFSETFROM:-0400
TZOFFSETTO:-0500
END:DAYLIGHT
END:VTIMEZONE
BEGIN:VEVENT
UID:20260420T044105Z-1B4F5C30
PRIORITY:5
CLASS:PUBLIC
TRANSP:OPAQUE
SEQUENCE:0
DTSTAMP:20260420T044105Z
DTSTART;TZID=America/New_York:20260602T183000
DTEND;TZID=America/New_York:20260602T213000
RRULE:FREQ=WEEKLY;COUNT=2;INTERVAL=1;BYDAY=TU
DESCRIPTION:Event Description:\n\nAdvanced 12 Lead EKG Interpretation For The Practicing Nurse\n\nAdvanced 12 Lead EKG Interpretation\n\nEvent Schedule:\n\nTuesday June 2, 6:30p-9:30p and Tuesday June 9, 6:30p-9:30p. Online Via ZOOM\n\nEvent Location:\n\nOnline-via ZOOM\n1000 Hempstead Ave\nRockville Centre, NY 11570\n
LOCATION:Online-via ZOOM, 1000 Hempstead Ave, Rockville Centre, NY, 11570
SUMMARY:Molloy Session: Advanced 12 Lead EKG Interpretation For The Practicing Nurse
BEGIN:VALARM
TRIGGER:-P1D
REPEAT:4
DURATION:PT6H
ACTION:DISPLAY
END:VALARM
END:VEVENT
END:VCALENDAR