BEGIN:VCALENDAR
VERSION:2.0
PRODID:-//entrinsik//Enrole//EN
METHOD:PUBLISH
X-MS-OLK-FORCEINSPECTOROPEN:TRUE
BEGIN:VTIMEZONE
TZID:America/New_York
BEGIN:STANDARD
DTSTART:20260308T020000
TZOFFSETFROM:-0500
TZOFFSETTO:-0400
END:STANDARD
BEGIN:DAYLIGHT
DTSTART:20261101T020000
TZOFFSETFROM:-0400
TZOFFSETTO:-0500
END:DAYLIGHT
END:VTIMEZONE
BEGIN:VEVENT
UID:20260419T115411Z-F34A3410
PRIORITY:5
CLASS:PUBLIC
TRANSP:OPAQUE
SEQUENCE:0
DTSTAMP:20260419T115411Z
DTSTART;TZID=America/New_York:20260608T093000
DTEND;TZID=America/New_York:20260608T160000
RRULE:FREQ=WEEKLY;COUNT=2;INTERVAL=1;BYDAY=MO,TU
DESCRIPTION:Event Description:\n\nAHA Advanced Cardiac Life Support (ACLS) Course\n\nTeaches the importance of preventing cardiac arrest\n\nEvent Schedule:\n\nMonday, June 8 & Tuesday, June 9, 2026 - 9:30am to 4:00pm Rockville Centre Campus\n\nEvent Location:\n\nRVC Rm TBA\n1000 Hempstead Ave\nRockville Centre, NY 11571\n
LOCATION:RVC Rm TBA, 1000 Hempstead Ave, Rockville Centre, NY, 11571
SUMMARY:Molloy Session: AHA Advanced Cardiac Life Support (ACLS) Course
BEGIN:VALARM
TRIGGER:-P1D
REPEAT:4
DURATION:PT6H
ACTION:DISPLAY
END:VALARM
END:VEVENT
END:VCALENDAR