BEGIN:VCALENDAR
VERSION:2.0
PRODID:-//entrinsik//Enrole//EN
METHOD:PUBLISH
X-MS-OLK-FORCEINSPECTOROPEN:TRUE
BEGIN:VTIMEZONE
TZID:America/New_York
BEGIN:STANDARD
DTSTART:20260308T020000
TZOFFSETFROM:-0500
TZOFFSETTO:-0400
END:STANDARD
BEGIN:DAYLIGHT
DTSTART:20261101T020000
TZOFFSETFROM:-0400
TZOFFSETTO:-0500
END:DAYLIGHT
END:VTIMEZONE
BEGIN:VEVENT
UID:20260420T102544Z-84263298
PRIORITY:5
CLASS:PUBLIC
TRANSP:OPAQUE
SEQUENCE:0
DTSTAMP:20260420T102544Z
DTSTART;TZID=America/New_York:20260715T183000
DTEND;TZID=America/New_York:20260715T213000
DESCRIPTION:Event Description:\n\nHow to Inspect and Evaluate HVAC Distribution Systems ( 3 Hours)\n\nThe instructor will teach the student all of the aspects of inspecting and evaluating the installation of existing duct systems for heating and cooling in a residential building and their condition.\n\nEvent Schedule:\n\nWednesday, July 15, 2026, 6:30-9:30 p.m. Online Via ZOOM\n\nEvent Location:\n\nOnline-via ZOOM\n1000 Hempstead Ave\nRockville Centre, NY 11570\n
LOCATION:Online-via ZOOM, 1000 Hempstead Ave, Rockville Centre, NY, 11570
SUMMARY:Molloy Session: How to Inspect and Evaluate HVAC Distribution Systems ( 3 Hours)
BEGIN:VALARM
TRIGGER:-P1D
REPEAT:4
DURATION:PT6H
ACTION:DISPLAY
END:VALARM
END:VEVENT
END:VCALENDAR