BEGIN:VCALENDAR
VERSION:2.0
PRODID:-//entrinsik//Enrole//EN
METHOD:PUBLISH
X-MS-OLK-FORCEINSPECTOROPEN:TRUE
BEGIN:VTIMEZONE
TZID:America/New_York
BEGIN:STANDARD
DTSTART:20260308T020000
TZOFFSETFROM:-0500
TZOFFSETTO:-0400
END:STANDARD
BEGIN:DAYLIGHT
DTSTART:20261101T020000
TZOFFSETFROM:-0400
TZOFFSETTO:-0500
END:DAYLIGHT
END:VTIMEZONE
BEGIN:VEVENT
UID:20260420T090229Z-836F2B20
PRIORITY:5
CLASS:PUBLIC
TRANSP:OPAQUE
SEQUENCE:0
DTSTAMP:20260420T090229Z
DTSTART;TZID=America/New_York:20260603T183000
DTEND;TZID=America/New_York:20260603T213000
DESCRIPTION:Event Description:\n\nInspecting and Evaluating Hot Water Heaters (3 CE Hours)\n\nHot Water Heaters\n\nEvent Schedule:\n\n Wednesday, June 03, 2026, 6:30p.m.-9:30p.m.Online Via ZOOM\n\nEvent Location:\n\nOnline-via ZOOM\n1000 Hempstead Ave\nRockville Centre, NY 11570\n
LOCATION:Online-via ZOOM, 1000 Hempstead Ave, Rockville Centre, NY, 11570
SUMMARY:Molloy Session: Inspecting and Evaluating Hot Water Heaters (3 CE Hours)
BEGIN:VALARM
TRIGGER:-P1D
REPEAT:4
DURATION:PT6H
ACTION:DISPLAY
END:VALARM
END:VEVENT
END:VCALENDAR