BEGIN:VCALENDAR
VERSION:2.0
PRODID:-//entrinsik//Enrole//EN
METHOD:PUBLISH
X-MS-OLK-FORCEINSPECTOROPEN:TRUE
BEGIN:VTIMEZONE
TZID:America/New_York
BEGIN:STANDARD
DTSTART:20260308T020000
TZOFFSETFROM:-0500
TZOFFSETTO:-0400
END:STANDARD
BEGIN:DAYLIGHT
DTSTART:20261101T020000
TZOFFSETFROM:-0400
TZOFFSETTO:-0500
END:DAYLIGHT
END:VTIMEZONE
BEGIN:VEVENT
UID:20260420T053203Z-610F4A8
PRIORITY:5
CLASS:PUBLIC
TRANSP:OPAQUE
SEQUENCE:0
DTSTAMP:20260420T053203Z
DTSTART;TZID=America/New_York:20260429T190000
DTEND;TZID=America/New_York:20260429T194500
DESCRIPTION:Event Description:\n\nRN Refresher Program Information Session\n\nRN Refresher Program Information Session\n\nEvent Schedule:\n\nWednesday April 29, 2026; 7:00pm-7:45pm\n\nEvent Location:\n\nOnline-via ZOOM\n1000 Hempstead Ave\nRockville Centre, NY 11570\n
LOCATION:Online-via ZOOM, 1000 Hempstead Ave, Rockville Centre, NY, 11570
SUMMARY:Molloy Session: RN Refresher Program Information Session
BEGIN:VALARM
TRIGGER:-P1D
REPEAT:4
DURATION:PT6H
ACTION:DISPLAY
END:VALARM
END:VEVENT
END:VCALENDAR