BEGIN:VCALENDAR
VERSION:2.0
PRODID:-//entrinsik//Enrole//EN
METHOD:PUBLISH
X-MS-OLK-FORCEINSPECTOROPEN:TRUE
BEGIN:VTIMEZONE
TZID:America/New_York
BEGIN:STANDARD
DTSTART:20260308T020000
TZOFFSETFROM:-0500
TZOFFSETTO:-0400
END:STANDARD
BEGIN:DAYLIGHT
DTSTART:20261101T020000
TZOFFSETFROM:-0400
TZOFFSETTO:-0500
END:DAYLIGHT
END:VTIMEZONE
BEGIN:VEVENT
UID:20260420T071655Z-796CDD10
PRIORITY:5
CLASS:PUBLIC
TRANSP:OPAQUE
SEQUENCE:0
DTSTAMP:20260420T071655Z
DTSTART;TZID=America/New_York:20260501T180000
DTEND;TZID=America/New_York:20260501T210000
RRULE:FREQ=WEEKLY;COUNT=11;INTERVAL=1;BYDAY=FR
EXDATE;VALUE=DATE:20260522,20260703
DESCRIPTION:Event Description:\n\nCoding Review Course\n\nThis course is designed to review the coding skills necessary to prepare an individual for the Certified Coding Specialist (CCS) and/or the Certified Coding Specialist - Physician based (CCS-P) credentialing exams offered by the American Health Information Management Association (AHIMA)\n\nEvent Schedule:\n\n9 Fridays, May 1 to July 10, 2026 (no class 5/22 & 7/3) 6:00pm to 9:00pm. Online Via ZOOM.\n\nEvent Location:\n\nOnline-via ZOOM\n1000 Hempstead Ave\nRockville Centre, NY 11570\n
LOCATION:Online-via ZOOM, 1000 Hempstead Ave, Rockville Centre, NY, 11570
SUMMARY:Molloy Session: Coding Review Course
BEGIN:VALARM
TRIGGER:-P1D
REPEAT:4
DURATION:PT6H
ACTION:DISPLAY
END:VALARM
END:VEVENT
END:VCALENDAR