BEGIN:VCALENDAR
VERSION:2.0
PRODID:-//entrinsik//Enrole//EN
METHOD:PUBLISH
X-MS-OLK-FORCEINSPECTOROPEN:TRUE
BEGIN:VTIMEZONE
TZID:America/New_York
BEGIN:STANDARD
DTSTART:20260308T020000
TZOFFSETFROM:-0500
TZOFFSETTO:-0400
END:STANDARD
BEGIN:DAYLIGHT
DTSTART:20261101T020000
TZOFFSETFROM:-0400
TZOFFSETTO:-0500
END:DAYLIGHT
END:VTIMEZONE
BEGIN:VEVENT
UID:20260420T071419Z-4F181AD0
PRIORITY:5
CLASS:PUBLIC
TRANSP:OPAQUE
SEQUENCE:0
DTSTAMP:20260420T071419Z
DTSTART;TZID=America/New_York:20260502T100000
DTEND;TZID=America/New_York:20260502T150000
RRULE:FREQ=WEEKLY;COUNT=3;INTERVAL=1;BYDAY=SA
DESCRIPTION:Event Description:\n\nClient/Counselor Relationship\n\nThe course will assist students to: maintain their therapeutic role at all times in professional and community settings\n\nEvent Schedule:\n\n3 Saturdays, 5/2/26 - 5/16/26; 10:00am - 3:00pm  Note: Last class meets 10am to 4pm Online Via ZOOM\n\nEvent Location:\n\nOnline-via ZOOM\n1000 Hempstead Ave\nRockville Centre, NY 11570\n
LOCATION:Online-via ZOOM, 1000 Hempstead Ave, Rockville Centre, NY, 11570
SUMMARY:Molloy Session: Client/Counselor Relationship
BEGIN:VALARM
TRIGGER:-P1D
REPEAT:4
DURATION:PT6H
ACTION:DISPLAY
END:VALARM
END:VEVENT
BEGIN:VEVENT
CLASS:PUBLIC
CREATED:20260420T071419Z
DTSTAMP:20260420T071419Z
LAST-MODIFIED:20260420T071419Z
DTSTART:20260516T100000
DTEND:20260516T160000
PRIORITY:5
RECURRENCE-ID:20260516
SEQUENCE:0
TRANSP:OPAQUE
UID:20260420T071419Z-4F181AD0
END:VEVENT
END:VCALENDAR