BEGIN:VCALENDAR
VERSION:2.0
PRODID:-//entrinsik//Enrole//EN
METHOD:PUBLISH
X-MS-OLK-FORCEINSPECTOROPEN:TRUE
BEGIN:VTIMEZONE
TZID:America/New_York
BEGIN:STANDARD
DTSTART:20260308T020000
TZOFFSETFROM:-0500
TZOFFSETTO:-0400
END:STANDARD
BEGIN:DAYLIGHT
DTSTART:20261101T020000
TZOFFSETFROM:-0400
TZOFFSETTO:-0500
END:DAYLIGHT
END:VTIMEZONE
BEGIN:VEVENT
UID:20260419T155508Z-40F36740
PRIORITY:5
CLASS:PUBLIC
TRANSP:OPAQUE
SEQUENCE:0
DTSTAMP:20260419T155508Z
DTSTART;TZID=America/New_York:20260902T000000
DTEND;TZID=America/New_York:20260902T120000
RRULE:FREQ=WEEKLY;COUNT=107;INTERVAL=1;BYDAY=MO,TU,WE,TH,FR,SA,SU
EXDATE;VALUE=DATE:20261009,20261103,20261109,20261125,20261126,20261127
DESCRIPTION:Event Description:\n\nCybersecurity 1\n\nCybersecurity 1\n\nEvent Schedule:\n\nBeginning Sep 2, 2026 to December 17, 2026. Fully Online Asynchronous through Canvas. Instructions for taking the course online will be emailed just prior to the start date.\n\nEvent Location:\n\nOnline/Asynchronous\n1000 Hempstead Ave\nRockville Centre, NY 11572\n
LOCATION:Online/Asynchronous, 1000 Hempstead Ave, Rockville Centre, NY, 11572
SUMMARY:Molloy Session: Cybersecurity 1
BEGIN:VALARM
TRIGGER:-P1D
REPEAT:4
DURATION:PT6H
ACTION:DISPLAY
END:VALARM
END:VEVENT
END:VCALENDAR