BEGIN:VCALENDAR
VERSION:2.0
PRODID:-//entrinsik//Enrole//EN
METHOD:PUBLISH
X-MS-OLK-FORCEINSPECTOROPEN:TRUE
BEGIN:VTIMEZONE
TZID:America/New_York
BEGIN:STANDARD
DTSTART:20260308T020000
TZOFFSETFROM:-0500
TZOFFSETTO:-0400
END:STANDARD
BEGIN:DAYLIGHT
DTSTART:20261101T020000
TZOFFSETFROM:-0400
TZOFFSETTO:-0500
END:DAYLIGHT
END:VTIMEZONE
BEGIN:VEVENT
UID:20260420T131343Z-A293F4C0
PRIORITY:5
CLASS:PUBLIC
TRANSP:OPAQUE
SEQUENCE:0
DTSTAMP:20260420T131343Z
DTSTART;TZID=America/New_York:20250919T100000
DTEND;TZID=America/New_York:20250919T143000
RRULE:FREQ=WEEKLY;COUNT=40;INTERVAL=1;BYDAY=FR
EXDATE;VALUE=DATE:20251205,20251226,20260102,20260109,20260116,20260410
DESCRIPTION:Event Description:\n\nMolloy Institute for Lifelong Learning\n\nMolloy Institute for Lifelong\n\nEvent Schedule:\n\nEvery week on Friday, starting on 09/19/25 and ending on 06/19/26 (excluding 12/05/25, 12/26/25, 01/02/26, 01/09/26, 01/16/26, 04/10/26)\n\nEvent Location:\n\nPublic Square-Larini Room\n1000 Hempstead Ave\nRockville Centre, NY 11570\n
LOCATION:Public Square-Larini Room, 1000 Hempstead Ave, Rockville Centre, NY, 11570
SUMMARY:Molloy Session: Molloy Institute for Lifelong Learning
BEGIN:VALARM
TRIGGER:-P1D
REPEAT:4
DURATION:PT6H
ACTION:DISPLAY
END:VALARM
END:VEVENT
END:VCALENDAR