BEGIN:VCALENDAR
VERSION:2.0
PRODID:-//entrinsik//Enrole//EN
METHOD:PUBLISH
X-MS-OLK-FORCEINSPECTOROPEN:TRUE
BEGIN:VTIMEZONE
TZID:America/New_York
BEGIN:STANDARD
DTSTART:20260308T020000
TZOFFSETFROM:-0500
TZOFFSETTO:-0400
END:STANDARD
BEGIN:DAYLIGHT
DTSTART:20261101T020000
TZOFFSETFROM:-0400
TZOFFSETTO:-0500
END:DAYLIGHT
END:VTIMEZONE
BEGIN:VEVENT
UID:20260425T115159Z-E3773C08
PRIORITY:5
CLASS:PUBLIC
TRANSP:OPAQUE
SEQUENCE:0
DTSTAMP:20260425T115159Z
DTSTART;TZID=America/New_York:20260505T190000
DTEND;TZID=America/New_York:20260505T203000
RRULE:FREQ=WEEKLY;COUNT=16;INTERVAL=1;BYDAY=TU,TH
EXDATE;VALUE=DATE:20260505,20260519,20260610,20260618,20260630,20260702,20260730,20260811
DESCRIPTION:Event Description:\n\nEssential Non-Clinical Skills for the Future-Ready SLP\n\nA 6-module virtual professional development series for speech-language pathologists over 12 weeks, covering career design, technology, finance, communication, entrepreneurship, advocacy, and leadership essentials. Includes live 90-minute sessions with expert faculty, lifetime recorded access, peer community, a companion workbook, and 0.6 ASHA CEUs. Runs May 14 - August 13, 2026.\n\nEvent Schedule:\n\nSeries Dates: May 14 - August 13, 2026All live sessions: 7 PM - 8:30 PM ET via Zoom \n\nEvent Location:\n\nOnline Zoom + Online LMS \n-\n-, MA -\n
LOCATION:Online Zoom + Online LMS , -, -, MA, -
SUMMARY:MGH Institute of Health Professions session: Essential Non-Clinical Skills for the Future-Ready SLP
BEGIN:VALARM
TRIGGER:-P1D
REPEAT:4
DURATION:PT6H
ACTION:DISPLAY
END:VALARM
END:VEVENT
END:VCALENDAR