BEGIN:VCALENDAR
VERSION:2.0
PRODID:-//entrinsik//Enrole//EN
METHOD:PUBLISH
X-MS-OLK-FORCEINSPECTOROPEN:TRUE
BEGIN:VTIMEZONE
TZID:America/New_York
BEGIN:STANDARD
DTSTART:20260308T020000
TZOFFSETFROM:-0500
TZOFFSETTO:-0400
END:STANDARD
BEGIN:DAYLIGHT
DTSTART:20261101T020000
TZOFFSETFROM:-0400
TZOFFSETTO:-0500
END:DAYLIGHT
END:VTIMEZONE
BEGIN:VEVENT
UID:20260425T132620Z-DE616DE0
PRIORITY:5
CLASS:PUBLIC
TRANSP:OPAQUE
SEQUENCE:0
DTSTAMP:20260425T132620Z
DTSTART;TZID=America/New_York:20260201T000000
DTEND;TZID=America/New_York:20260201T120000
RRULE:FREQ=MONTHLY;COUNT=38;INTERVAL=1;BYMONTHDAY=1
EXDATE;VALUE=DATE:20260201,20260301,20260401,20260501,20260601,20260701,20260801,20260901,20261001,20261101,20261201,20270101,20270201,20270301,20270401,20270501,20270601,20270701,20270801,20270901,20271001,20271101,20271201,20280101,20280201,20280301,20280401,20280501,20280601,20280701,20280801,20280901,20281001,20281101,20281201,20290101,20290201,20290301
DESCRIPTION:Event Description:\n\nElevating Clinical Education:Building Inclusive and Responsive Learning Environments\n\nThis course is fully asynchronous, self-paced, and modular. Therefore, no one needs to be online at any specific time, and they can move at their own pace. The modules are meant to be completed in order. Each module will have a short quiz.\n\nEvent Schedule:\n\nThis is an online course that is fully asynchronous, and self-paced.\n\nEvent Location:\n\nOnline learning management system (LMS)\nAsynchronous & self-paced\n-, - -\n
LOCATION:Online learning management system (LMS), Asynchronous & self-paced, -, -, -
SUMMARY:MGH Institute of Health Professions session: Elevating Clinical Education:Building Inclusive and Responsive Learning Environments
BEGIN:VALARM
TRIGGER:-P1D
REPEAT:4
DURATION:PT6H
ACTION:DISPLAY
END:VALARM
END:VEVENT
END:VCALENDAR