BEGIN:VCALENDAR
VERSION:2.0
PRODID:-//entrinsik//Enrole//EN
METHOD:PUBLISH
X-MS-OLK-FORCEINSPECTOROPEN:TRUE
BEGIN:VTIMEZONE
TZID:America/Chicago
BEGIN:STANDARD
DTSTART:20260308T020000
TZOFFSETFROM:-0600
TZOFFSETTO:-0500
END:STANDARD
BEGIN:DAYLIGHT
DTSTART:20261101T020000
TZOFFSETFROM:-0500
TZOFFSETTO:-0600
END:DAYLIGHT
END:VTIMEZONE
BEGIN:VEVENT
UID:20260419T232756Z-766FBA28
PRIORITY:5
CLASS:PUBLIC
TRANSP:OPAQUE
SEQUENCE:0
DTSTAMP:20260419T232756Z
DTSTART;TZID=America/Chicago:20260610T090000
DTEND;TZID=America/Chicago:20260610T160000
RRULE:FREQ=DAILY;COUNT=50;INTERVAL=1
EXDATE;VALUE=DATE:20260611,20260612,20260613,20260614,20260615,20260616,20260618,20260619,20260620,20260621,20260622,20260623,20260625,20260626,20260627,20260628,20260629,20260630,20260702,20260703,20260704,20260705,20260706,20260707,20260709,20260710,20260711,20260712,20260713,20260714,20260716,20260717,20260718,20260719,20260720,20260721,20260723,20260724,20260725,20260726,20260727,20260728
DESCRIPTION:Event Description:\n\nMedication Assistant (CMA) II\n\nMedication Assistant II (North Dakota Approved)/Medication Administration for Unlicensed Personnel (Minnesota Approved) is a 48-hour classroom/lab designed to train personnel in various settings i.e., nursing homes, etc. who will be administering medications in North Dakota or Minnesota.\n\nEvent Schedule:\n\nClass will meet from 9:00am - 4:00pm on the following days: June 10, 17, 24, July 1, 8, 15, 22, & 29, 2026.\n\nEvent Location:\n\nBergstrom Technical Center, Room 262\n1801 College Dr N\nDevils Lake, ND 58301\n
LOCATION:Bergstrom Technical Center, Room 262, 1801 College Dr N, Devils Lake, ND, 58301
SUMMARY:Lake Region State College Training: Medication Assistant (CMA) II
BEGIN:VALARM
TRIGGER:-P1D
REPEAT:4
DURATION:PT6H
ACTION:DISPLAY
END:VALARM
END:VEVENT
END:VCALENDAR