BEGIN:VCALENDAR
VERSION:2.0
PRODID:-//entrinsik//Enrole//EN
METHOD:PUBLISH
X-MS-OLK-FORCEINSPECTOROPEN:TRUE
BEGIN:VTIMEZONE
TZID:America/Chicago
BEGIN:STANDARD
DTSTART:20260308T020000
TZOFFSETFROM:-0600
TZOFFSETTO:-0500
END:STANDARD
BEGIN:DAYLIGHT
DTSTART:20261101T020000
TZOFFSETFROM:-0500
TZOFFSETTO:-0600
END:DAYLIGHT
END:VTIMEZONE
BEGIN:VEVENT
UID:20260420T053033Z-EC9A80F8
PRIORITY:5
CLASS:PUBLIC
TRANSP:OPAQUE
SEQUENCE:0
DTSTAMP:20260420T053033Z
DTSTART;TZID=America/Chicago:20260602T170000
DTEND;TZID=America/Chicago:20260602T213000
RRULE:FREQ=WEEKLY;COUNT=4;INTERVAL=1;BYDAY=TU,TH
DESCRIPTION:Event Description:\n\nUAS Remote Pilot Test Prep Course\n\nPrepares the student for the Federal Aviation Administration Remote Pilot Certification, also known as a FAA Part 107 license. The certification allows the student to legally perform commercial drone operations in the United States. The material presented in this course will include topics such as Regulations, the National Airspace System, Weather, Pre-flight Considerations, and Operations. \n\nEvent Schedule:\n\nEvery week on Tuesday and Thursday, starting on 06/02/26 and ending on 06/11/26\n\nEvent Location:\n\nKreher Agriculture Center Room K1122\n5250 Shepherd Road\nSpringfield, IL 62703\n
LOCATION:Kreher Agriculture Center Room K1122, 5250 Shepherd Road, Springfield, IL, 62703
SUMMARY:Lincoln Land Community College: UAS Remote Pilot Test Prep Course 
BEGIN:VALARM
TRIGGER:-P1D
REPEAT:4
DURATION:PT6H
ACTION:DISPLAY
END:VALARM
END:VEVENT
END:VCALENDAR