BEGIN:VCALENDAR
VERSION:2.0
PRODID:-//entrinsik//Enrole//EN
METHOD:PUBLISH
X-MS-OLK-FORCEINSPECTOROPEN:TRUE
BEGIN:VTIMEZONE
TZID:America/Chicago
BEGIN:STANDARD
DTSTART:20260308T020000
TZOFFSETFROM:-0600
TZOFFSETTO:-0500
END:STANDARD
BEGIN:DAYLIGHT
DTSTART:20261101T020000
TZOFFSETFROM:-0500
TZOFFSETTO:-0600
END:DAYLIGHT
END:VTIMEZONE
BEGIN:VEVENT
UID:20260420T053032Z-265BE390
PRIORITY:5
CLASS:PUBLIC
TRANSP:OPAQUE
SEQUENCE:0
DTSTAMP:20260420T053032Z
DTSTART;TZID=America/Chicago:20260502T080000
DTEND;TZID=America/Chicago:20260502T160000
DESCRIPTION:Event Description:\n\nIntroduction to Drones\n\nPrepares the student for the Federal Aviation Administration T.R.U.S.T. License which allows for recreational flight of a drone in the United States. The course will also train the individual how to fly a drone, perform pre-flight inspections, best practices for ensuring risk management, and flight maneuvers that will enhance the Remote Pilots skill sets for a professional environment.  Practice drones are provided for use during this course.Participants are strongly encouraged to register early-at least one week before the class start date-to secure a seat, as many classes fill quickly. Classes may be cancelled due to low enrollment, and early registration can make the difference.\n\nEvent Schedule:\n\nEvery day, starting on 05/02/26 and ending on 05/02/26\n\nEvent Location:\n\nKreher Agriculture Center Room K1122\n5250 Shepherd Road\nSpringfield, IL 62703\n
LOCATION:Kreher Agriculture Center Room K1122, 5250 Shepherd Road, Springfield, IL, 62703
SUMMARY:Lincoln Land Community College: Introduction to Drones 
BEGIN:VALARM
TRIGGER:-P1D
REPEAT:4
DURATION:PT6H
ACTION:DISPLAY
END:VALARM
END:VEVENT
END:VCALENDAR