BEGIN:VCALENDAR
VERSION:2.0
PRODID:-//entrinsik//Enrole//EN
METHOD:PUBLISH
X-MS-OLK-FORCEINSPECTOROPEN:TRUE
BEGIN:VTIMEZONE
TZID:America/Chicago
BEGIN:STANDARD
DTSTART:20260308T020000
TZOFFSETFROM:-0600
TZOFFSETTO:-0500
END:STANDARD
BEGIN:DAYLIGHT
DTSTART:20261101T020000
TZOFFSETFROM:-0500
TZOFFSETTO:-0600
END:DAYLIGHT
END:VTIMEZONE
BEGIN:VEVENT
UID:20260423T193928Z-6B2C6F40
PRIORITY:5
CLASS:PUBLIC
TRANSP:OPAQUE
SEQUENCE:0
DTSTAMP:20260423T193928Z
DTSTART;TZID=America/Chicago:20260626T120000
DTEND;TZID=America/Chicago:20260626T130000
DESCRIPTION:Event Title:\n\nGo Fourth Friday Webinar 2 - A Community Engagement Model (Introduction)\n\nEvent Schedule:\n\nEvery day, starting on 06/26/26 and ending on 06/26/26\n\nEvent Location:\n\n\n\n,  \n
LOCATION:, , , , 
SUMMARY:Go Fourth Friday Webinar 2 - A Community Engagement Model (Introduction) 
BEGIN:VALARM
TRIGGER:-P1D
REPEAT:4
DURATION:PT6H
ACTION:DISPLAY
END:VALARM
END:VEVENT
END:VCALENDAR