BEGIN:VCALENDAR
VERSION:2.0
PRODID:-//entrinsik//Enrole//EN
METHOD:PUBLISH
X-MS-OLK-FORCEINSPECTOROPEN:TRUE
BEGIN:VTIMEZONE
TZID:America/Chicago
BEGIN:STANDARD
DTSTART:20260308T020000
TZOFFSETFROM:-0600
TZOFFSETTO:-0500
END:STANDARD
BEGIN:DAYLIGHT
DTSTART:20261101T020000
TZOFFSETFROM:-0500
TZOFFSETTO:-0600
END:DAYLIGHT
END:VTIMEZONE
BEGIN:VEVENT
UID:20260420T062930Z-1920A1F8
PRIORITY:5
CLASS:PUBLIC
TRANSP:OPAQUE
SEQUENCE:0
DTSTAMP:20260420T062930Z
DTSTART;TZID=America/Chicago:20261103T093000
DTEND;TZID=America/Chicago:20261103T160000
RRULE:FREQ=DAILY;COUNT=3;INTERVAL=1
DESCRIPTION:Event Title:\n\nSupervisory Leadership Training\n\nEvent Schedule:\n\nThe Supervisory Leadership Training class will meet together for three consecutive days, November 3-5, 2026, via Teams. Each day will have a morning and afternoon session, with a long break in-between to avoid online fatigue. On November 3rd, class will run from 9:00am-12:00pm, and then 1:30pm-4:00pm. This day is longer to allow participants time to fully debrief the results of their SDI assessment that they will complete prior to class. Classes on November 4th & 5th will run from 9:30am-11:30am, and then 1:30pm-3:30pm. During our three days together, we'll cover a wealth of information. At the close of the three days, you'll set a goal for yourself about new skills/practices you want to implement following the training. You will also receive a simple, observational assignment that you can do while completing your normal supervisory work. On December 10th, we'll all come back together for a 90-minute lunchtime (feel free to bring your lunch to enjoy during the session) discussion and report-out online. This session will be from 12pm-1:30pm. This added layer of accountability will ensure that what happens in the classroom actually translates to action in your day-to-day. Also, it'll be nice to see one another again! Since this class will meet online, participants must have access to a computer or tablet with a video camera. Participants are not required to have cameras on at all times, but seeing one another's faces for some time each class greatly facilitates relationship development. A reliable internet connection. Space where they can engage without being disrupted; headphones with a microphone are recommended, but not required.\n\nEvent Location:\n\nOnline via Zoom\nThe class Zoom link will be sent via email.\n-, ONLINE -\n
LOCATION:Online via Zoom, The class Zoom link will be sent via email., -, ONLINE, -
SUMMARY:Supervisory Leadership Training 
BEGIN:VALARM
TRIGGER:-P1D
REPEAT:4
DURATION:PT6H
ACTION:DISPLAY
END:VALARM
END:VEVENT
BEGIN:VEVENT
CLASS:PUBLIC
CREATED:20260420T062930Z
DTSTAMP:20260420T062930Z
LAST-MODIFIED:20260420T062930Z
DTSTART:20261103T090000
DTEND:20261103T160000
PRIORITY:5
RECURRENCE-ID:20261103
SEQUENCE:0
TRANSP:OPAQUE
UID:20260420T062930Z-1920A1F8
END:VEVENT
BEGIN:VEVENT
CLASS:PUBLIC
CREATED:20260420T062930Z
DTSTAMP:20260420T062930Z
LAST-MODIFIED:20260420T062930Z
DTSTART:20261104T093000
DTEND:20261104T153000
PRIORITY:5
RECURRENCE-ID:20261104
SEQUENCE:1
TRANSP:OPAQUE
UID:20260420T062930Z-1920A1F8
END:VEVENT
BEGIN:VEVENT
CLASS:PUBLIC
CREATED:20260420T062930Z
DTSTAMP:20260420T062930Z
LAST-MODIFIED:20260420T062930Z
DTSTART:20261105T093000
DTEND:20261105T153000
PRIORITY:5
RECURRENCE-ID:20261105
SEQUENCE:2
TRANSP:OPAQUE
UID:20260420T062930Z-1920A1F8
END:VEVENT
END:VCALENDAR