BEGIN:VCALENDAR
VERSION:2.0
PRODID:-//entrinsik//Enrole//EN
METHOD:PUBLISH
X-MS-OLK-FORCEINSPECTOROPEN:TRUE
BEGIN:VTIMEZONE
TZID:America/Chicago
BEGIN:STANDARD
DTSTART:20260308T020000
TZOFFSETFROM:-0600
TZOFFSETTO:-0500
END:STANDARD
BEGIN:DAYLIGHT
DTSTART:20261101T020000
TZOFFSETFROM:-0500
TZOFFSETTO:-0600
END:DAYLIGHT
END:VTIMEZONE
BEGIN:VEVENT
UID:20260424T225429Z-427CC740
PRIORITY:5
CLASS:PUBLIC
TRANSP:OPAQUE
SEQUENCE:0
DTSTAMP:20260424T225429Z
DTSTART;TZID=America/Chicago:20260817T080000
DTEND;TZID=America/Chicago:20260817T170000
RRULE:FREQ=DAILY;COUNT=5;INTERVAL=1
DESCRIPTION:Event:  Supervisor School\n\nMISSOURI POST CERTIFIED Control #30489. The CPSL Supervisor School is a highly engaging, 5-day in-person program for new supervisors and those seeking a refresher. Participants work with practical tools in leveraging personal and team strengths, managing organizational change, situational awareness, and performance management.\n\nEvent Schedule:\n\n5 mtg\n\nEvent Location:\n\nEdwards Campus KLETC Regional Site\n12600 Quivira Road - Regents Building\nOverland Park, KS 66213
LOCATION:Edwards Campus KLETC Regional Site, 12600 Quivira Road - Regents Building, Overland Park, KS, 66213
SUMMARY:KU training session: Supervisor School
BEGIN:VALARM
TRIGGER:-P1D
REPEAT:4
DURATION:PT6H
ACTION:DISPLAY
END:VALARM
END:VEVENT
END:VCALENDAR