BEGIN:VCALENDAR
VERSION:2.0
PRODID:-//entrinsik//Enrole//EN
METHOD:PUBLISH
X-MS-OLK-FORCEINSPECTOROPEN:TRUE
BEGIN:VTIMEZONE
TZID:America/Chicago
BEGIN:STANDARD
DTSTART:20260308T020000
TZOFFSETFROM:-0600
TZOFFSETTO:-0500
END:STANDARD
BEGIN:DAYLIGHT
DTSTART:20261101T020000
TZOFFSETFROM:-0500
TZOFFSETTO:-0600
END:DAYLIGHT
END:VTIMEZONE
BEGIN:VEVENT
UID:20260422T083630Z-FE697750
PRIORITY:5
CLASS:PUBLIC
TRANSP:OPAQUE
SEQUENCE:0
DTSTAMP:20260422T083630Z
DTSTART;TZID=America/Chicago:20260622T080000
DTEND;TZID=America/Chicago:20260622T170000
RRULE:FREQ=DAILY;COUNT=5;INTERVAL=1
DESCRIPTION:Event:  Virtual Police Administrators' Seminar\n\nThe Virtual Police Administrators' Seminar is a live, interactive online leadership program created for law enforcement supervisors and administrators who want practical tools for managing a department and its people-without the travel demands of a traditional in-person seminar.\n\nEvent Schedule:\n\n5 mtg\n\nEvent Location:\n\nZoom Meeting\nYou will be sent a Zoom link approximately one week prior to the meeting.\nVirtual, KS VIRTUAL
LOCATION:Zoom Meeting, You will be sent a Zoom link approximately one week prior to the meeting., Virtual, KS, VIRTUAL
SUMMARY:KU training session: Virtual Police Administrators' Seminar
BEGIN:VALARM
TRIGGER:-P1D
REPEAT:4
DURATION:PT6H
ACTION:DISPLAY
END:VALARM
END:VEVENT
END:VCALENDAR