BEGIN:VCALENDAR
VERSION:2.0
PRODID:-//entrinsik//Enrole//EN
METHOD:PUBLISH
X-MS-OLK-FORCEINSPECTOROPEN:TRUE
BEGIN:VTIMEZONE
TZID:America/Chicago
BEGIN:STANDARD
DTSTART:20260308T020000
TZOFFSETFROM:-0600
TZOFFSETTO:-0500
END:STANDARD
BEGIN:DAYLIGHT
DTSTART:20261101T020000
TZOFFSETFROM:-0500
TZOFFSETTO:-0600
END:DAYLIGHT
END:VTIMEZONE
BEGIN:VEVENT
UID:20260420T234318Z-C5511658
PRIORITY:5
CLASS:PUBLIC
TRANSP:OPAQUE
SEQUENCE:0
DTSTAMP:20260420T234318Z
DTSTART;TZID=America/Chicago:20261101T000000
DTEND;TZID=America/Chicago:20261101T120000
RRULE:FREQ=MONTHLY;COUNT=2;INTERVAL=1;BYMONTHDAY=1
DESCRIPTION:Event:  GEOL 856: Environmental Geophysics\n\nThis non-credit course will introduce geophysical methods commonly used in subsurface characterization of environmental sites.  Fundamentals and application of ground-penetrating radar, electrical resistivity, and magnetics will be introduced.  Geologists and engineers who are working professionally in the environmental sector or those seeking to advance their knowledge of the geophysical methods used in environmental investigations should take this course. <b>Environmental Geophysics is offered every fall semester.</b> <br><b>To get started with registration, click on the link below for the enrollment period currently available.</b>\n\nEvent Schedule:\n\n2 mtg\n\nEvent Location:\n\n\n\n,  
LOCATION:, , , , 
SUMMARY:KU training session: GEOL 856: Environmental Geophysics
BEGIN:VALARM
TRIGGER:-P1D
REPEAT:4
DURATION:PT6H
ACTION:DISPLAY
END:VALARM
END:VEVENT
END:VCALENDAR