BEGIN:VCALENDAR
VERSION:2.0
PRODID:-//entrinsik//Enrole//EN
METHOD:PUBLISH
X-MS-OLK-FORCEINSPECTOROPEN:TRUE
BEGIN:VTIMEZONE
TZID:America/Chicago
BEGIN:STANDARD
DTSTART:20260308T020000
TZOFFSETFROM:-0600
TZOFFSETTO:-0500
END:STANDARD
BEGIN:DAYLIGHT
DTSTART:20261101T020000
TZOFFSETFROM:-0500
TZOFFSETTO:-0600
END:DAYLIGHT
END:VTIMEZONE
BEGIN:VEVENT
UID:20260420T235058Z-C421D970
PRIORITY:5
CLASS:PUBLIC
TRANSP:OPAQUE
SEQUENCE:0
DTSTAMP:20260420T235058Z
DTSTART;TZID=America/Chicago:20260826T160000
DTEND;TZID=America/Chicago:20260826T180000
RRULE:FREQ=WEEKLY;COUNT=17;INTERVAL=1;BYDAY=WE
DESCRIPTION:Event:  GEOL 751 / CE 752: Physical Hydrogeology\n\nThis non-credit course focuses on the study of fluid flow in subsurface hydrologic systems as well as investigation of the ground water environment including porosity, and hydraulic conductivity and their relationship to typical geologic materials. Students will examine Darcy's law and the continuity equation leading to the general flow equations. Students will use typical hydraulic testing methods to estimate aquifer parameters in various situations and apply these to water resource problems. Students will also study the basic mechanisms that determine the behavior of typical regional flow systems. <b>This course is offered every fall semester.</b> <br><b>To get started with registration, click on the link below for the enrollment period currently available.</b>\n\nEvent Schedule:\n\n17 mtg\n\nEvent Location:\n\nLive Online Training\nMeets live online weekly\nOnline, WEB OTHER
LOCATION:Live Online Training, Meets live online weekly, Online, WEB, OTHER
SUMMARY:KU training session: GEOL 751 / CE 752: Physical Hydrogeology
BEGIN:VALARM
TRIGGER:-P1D
REPEAT:4
DURATION:PT6H
ACTION:DISPLAY
END:VALARM
END:VEVENT
END:VCALENDAR