BEGIN:VCALENDAR
VERSION:2.0
PRODID:-//entrinsik//Enrole//EN
METHOD:PUBLISH
X-MS-OLK-FORCEINSPECTOROPEN:TRUE
BEGIN:VTIMEZONE
TZID:America/Chicago
BEGIN:STANDARD
DTSTART:20260308T020000
TZOFFSETFROM:-0600
TZOFFSETTO:-0500
END:STANDARD
BEGIN:DAYLIGHT
DTSTART:20261101T020000
TZOFFSETFROM:-0500
TZOFFSETTO:-0600
END:DAYLIGHT
END:VTIMEZONE
BEGIN:VEVENT
UID:20260422T113845Z-C4CF28A0
PRIORITY:5
CLASS:PUBLIC
TRANSP:OPAQUE
SEQUENCE:0
DTSTAMP:20260422T113845Z
DTSTART;TZID=America/Chicago:20260825T170000
DTEND;TZID=America/Chicago:20260825T180000
RRULE:FREQ=WEEKLY;COUNT=8;INTERVAL=1;BYDAY=TU
DESCRIPTION:Event:  GEOL 599: Preparation for Professional Geology License Exams\n\nPreparation for Professional Geology License Exams is intended for geology graduates seeking professional geology licensure. The course reviews fundamental geologic concepts that are emphasized on the Association of State Boards of Geology (ASBOG) Fundamentals of Geology (FG) exam, but also may be used to prepare for the ASBOG Practice of Geology (PG) exam, or exams required to gain licensure in non-ASBOG states. To be eligible to apply for the ASBOG exam in Kansas, 30 hours of coursework in geology is required. <b>This course is offered during the first 8 weeks of each semester, immediately before the Spring and Fall exams are administered.</b><br><br><b>To get started with registration, click on the link below for the enrollment period/dates currently available.</b>\n\nEvent Schedule:\n\n8 mtg\n\nEvent Location:\n\nLive Online Training\nMeets live online weekly\nOnline, WEB OTHER
LOCATION:Live Online Training, Meets live online weekly, Online, WEB, OTHER
SUMMARY:KU training session: GEOL 599: Preparation for Professional Geology License Exams
BEGIN:VALARM
TRIGGER:-P1D
REPEAT:4
DURATION:PT6H
ACTION:DISPLAY
END:VALARM
END:VEVENT
END:VCALENDAR