BEGIN:VCALENDAR
VERSION:2.0
PRODID:-//entrinsik//Enrole//EN
METHOD:PUBLISH
X-MS-OLK-FORCEINSPECTOROPEN:TRUE
BEGIN:VTIMEZONE
TZID:America/Chicago
BEGIN:STANDARD
DTSTART:20260308T020000
TZOFFSETFROM:-0600
TZOFFSETTO:-0500
END:STANDARD
BEGIN:DAYLIGHT
DTSTART:20261101T020000
TZOFFSETFROM:-0500
TZOFFSETTO:-0600
END:DAYLIGHT
END:VTIMEZONE
BEGIN:VEVENT
UID:20260422T192228Z-C51A9D08
PRIORITY:5
CLASS:PUBLIC
TRANSP:OPAQUE
SEQUENCE:0
DTSTAMP:20260422T192228Z
DTSTART;TZID=America/Chicago:20270120T180000
DTEND;TZID=America/Chicago:20270120T200000
RRULE:FREQ=WEEKLY;COUNT=8;INTERVAL=1;BYDAY=WE
DESCRIPTION:Event:  GEOL 557: Environmental Site Operations, Management, and Safety:  HAZWOPER Health and Safety (OSHA-40) Standards Training\n\nThis course will introduce contaminant toxicology, hazard identification, site operations and management, and provide an overview of related regulations. It provides information related to environmental site management scopes of work, cost estimations, proposal generation, sub-contractor relationships, and budgets. Monitoring equipment, drum and container sampling, decontamination, and confined space designations will be presented. General safety hazards, personal protective equipment (PPE) and levels of PPE protection, drill rig safety, hazard communication and medical surveillance, and development of health and safety plans, will also be presented. Satisfies the Occupational Safety and Health Administration (OSHA) Hazardous Waste Operations and Emergency Response (HAZWOPER) 40-Hour requirement with a culminating certificate. <b>This course is taught each Spring Semester between January & March.</b><br><br><b>To get started with registration, click on the link below for the enrollment period currently available.</b><br>\n\nEvent Schedule:\n\n8 mtg\n\nEvent Location:\n\nLive Online Training\nMeets live online weekly\nOnline, WEB OTHER
LOCATION:Live Online Training, Meets live online weekly, Online, WEB, OTHER
SUMMARY:KU training session: GEOL 557: Environmental Site Operations, Management, and Safety:  HAZWOPER Health and Safety (OSHA-40) Standards Training
BEGIN:VALARM
TRIGGER:-P1D
REPEAT:4
DURATION:PT6H
ACTION:DISPLAY
END:VALARM
END:VEVENT
END:VCALENDAR