BEGIN:VCALENDAR
VERSION:2.0
PRODID:-//entrinsik//Enrole//EN
METHOD:PUBLISH
X-MS-OLK-FORCEINSPECTOROPEN:TRUE
BEGIN:VTIMEZONE
TZID:America/Chicago
BEGIN:STANDARD
DTSTART:20260308T020000
TZOFFSETFROM:-0600
TZOFFSETTO:-0500
END:STANDARD
BEGIN:DAYLIGHT
DTSTART:20261101T020000
TZOFFSETFROM:-0500
TZOFFSETTO:-0600
END:DAYLIGHT
END:VTIMEZONE
BEGIN:VEVENT
UID:20260420T235058Z-AA4C35A0
PRIORITY:5
CLASS:PUBLIC
TRANSP:OPAQUE
SEQUENCE:0
DTSTAMP:20260420T235058Z
DTSTART;TZID=America/Chicago:20260827T170000
DTEND;TZID=America/Chicago:20260827T185000
RRULE:FREQ=WEEKLY;COUNT=17;INTERVAL=1;BYDAY=TH
DESCRIPTION:Event:  GEOL 755: Site Assessment Environmental Geology\n\nThis non-credit course encompasses both the academic and applied aspects of environmental geology. The student is presented with the historical, regulatory and risk characteristics of environmental issues as well as specific geologic principles such as GIS and remote sensing, geophysics, geomorphology and surface and groundwater practices. Site assessment concepts include surface and subsurface sampling, analyses and interpretations, conceptual site models, environmental geologic forensics, and environmental Phase I site assessments (USEPA and ASTM). This course is offered every fall and spring semester. <br><b>To get started with registration, click on the link below for the enrollment period currently available.</b>\n\nEvent Schedule:\n\n17 mtg\n\nEvent Location:\n\nLive Online Training\nMeets live online weekly\nOnline, WEB OTHER
LOCATION:Live Online Training, Meets live online weekly, Online, WEB, OTHER
SUMMARY:KU training session: GEOL 755: Site Assessment Environmental Geology
BEGIN:VALARM
TRIGGER:-P1D
REPEAT:4
DURATION:PT6H
ACTION:DISPLAY
END:VALARM
END:VEVENT
END:VCALENDAR