BEGIN:VCALENDAR
VERSION:2.0
PRODID:-//entrinsik//Enrole//EN
METHOD:PUBLISH
X-MS-OLK-FORCEINSPECTOROPEN:TRUE
BEGIN:VTIMEZONE
TZID:America/Chicago
BEGIN:STANDARD
DTSTART:20260308T020000
TZOFFSETFROM:-0600
TZOFFSETTO:-0500
END:STANDARD
BEGIN:DAYLIGHT
DTSTART:20261101T020000
TZOFFSETFROM:-0500
TZOFFSETTO:-0600
END:DAYLIGHT
END:VTIMEZONE
BEGIN:VEVENT
UID:20260425T075227Z-C8CC2CE0
PRIORITY:5
CLASS:PUBLIC
TRANSP:OPAQUE
SEQUENCE:0
DTSTAMP:20260425T075227Z
DTSTART;TZID=America/Chicago:20250701T000000
DTEND;TZID=America/Chicago:20250701T000000
RRULE:FREQ=MONTHLY;COUNT=12;INTERVAL=1;BYMONTHDAY=1
DESCRIPTION:Event:  Online Certificate in Warehouse and Distribution Center Layout\n\nA well-planned warehouse layout will help you reduce operating costs by improving warehouse processes and inventory control. You will learn to apply field-proven techniques, which focus on layout planning, methods selection, space optimization, and material handling.<br />After enrolling, you have 30 days to start the course in Canvas, and once you access the course in Canvas, you have up to four months to complete the course.\n\nEvent Schedule:\n\n12 mtg\n\nEvent Location:\n\nSelf-paced Online Training\nEnroll and start at any time\nOnline, WEB OTHER
LOCATION:Self-paced Online Training, Enroll and start at any time, Online, WEB, OTHER
SUMMARY:KU training session: Online Certificate in Warehouse and Distribution Center Layout
BEGIN:VALARM
TRIGGER:-P1D
REPEAT:4
DURATION:PT6H
ACTION:DISPLAY
END:VALARM
END:VEVENT
END:VCALENDAR