BEGIN:VCALENDAR
VERSION:2.0
PRODID:-//entrinsik//Enrole//EN
METHOD:PUBLISH
X-MS-OLK-FORCEINSPECTOROPEN:TRUE
BEGIN:VTIMEZONE
TZID:America/Chicago
BEGIN:STANDARD
DTSTART:20260308T020000
TZOFFSETFROM:-0600
TZOFFSETTO:-0500
END:STANDARD
BEGIN:DAYLIGHT
DTSTART:20261101T020000
TZOFFSETFROM:-0500
TZOFFSETTO:-0600
END:DAYLIGHT
END:VTIMEZONE
BEGIN:VEVENT
UID:20260420T223202Z-205018A8
PRIORITY:5
CLASS:PUBLIC
TRANSP:OPAQUE
SEQUENCE:0
DTSTAMP:20260420T223202Z
DTSTART;TZID=America/Chicago:20260101T000000
DTEND;TZID=America/Chicago:20260101T235900
RRULE:FREQ=MONTHLY;COUNT=6;INTERVAL=1;BYMONTHDAY=1
DESCRIPTION:Event:  Acompañamiento guiado para la recuperación del consumo de tabaco (STaRT, por sus siglas en inglés)\n\nAcompañamiento guiado para la recuperación del consumo de tabaco (STaRT, por sus siglas en inglés) está repleto de ideas y consejos sobre cómo apoyar a las personas en su proceso de recuperación. Consta de ocho módulos de 15 a 20 minutos con contenido audiovisual. El curso aborda el estigma que rodea el consumo de tabaco y la importancia de la recuperación. Aprenderá a comprender la situación de cada persona, evitar confrontaciones, escuchar activamente, proporcionar información actualizada y conectar a las personas con recursos gratuitos y eficaces.<br><p><strong>Antes de registrarte, debes solicitar la admisi&oacute;n al curso. Haz clic en este enlace para presentar tu solicitud:<a href="https://redcap.kumc.edu/surveys/?s=M9TFDPHKMTHPNWWN">STaRT Application</a></strong></p><br><p><b>Para comenzar, haga clic en el enlace que aparece a continuación para ver el período de inscripción actualmente abierto y reserve su plaza hoy mismo.</b>\n\nEvent Schedule:\n\n6 mtg\n\nEvent Location:\n\nSelf-paced Online Training\nEnroll and start at any time\nOnline, WEB OTHER
LOCATION:Self-paced Online Training, Enroll and start at any time, Online, WEB, OTHER
SUMMARY:KU training session: Acompañamiento guiado para la recuperación del consumo de tabaco (STaRT, por sus siglas en inglés)
BEGIN:VALARM
TRIGGER:-P1D
REPEAT:4
DURATION:PT6H
ACTION:DISPLAY
END:VALARM
END:VEVENT
END:VCALENDAR