BEGIN:VCALENDAR
VERSION:2.0
PRODID:-//entrinsik//Enrole//EN
METHOD:PUBLISH
X-MS-OLK-FORCEINSPECTOROPEN:TRUE
BEGIN:VTIMEZONE
TZID:America/Chicago
BEGIN:STANDARD
DTSTART:20260308T020000
TZOFFSETFROM:-0600
TZOFFSETTO:-0500
END:STANDARD
BEGIN:DAYLIGHT
DTSTART:20261101T020000
TZOFFSETFROM:-0500
TZOFFSETTO:-0600
END:DAYLIGHT
END:VTIMEZONE
BEGIN:VEVENT
UID:20260420T235531Z-A7A62870
PRIORITY:5
CLASS:PUBLIC
TRANSP:OPAQUE
SEQUENCE:0
DTSTAMP:20260420T235531Z
DTSTART;TZID=America/Chicago:20250101T000000
DTEND;TZID=America/Chicago:20250101T235900
RRULE:FREQ=MONTHLY;COUNT=6;INTERVAL=1;BYMONTHDAY=1
DESCRIPTION:Event:  Support for Tobacco Recovery Training (STaRT)\n\nSupport for Tobacco Recovery Training (STaRT) is packed with ideas and tips on how to support people in their tobacco recovery journey. There are eight, 15-20 - minute modules with both audio and visuals. The course addresses the stigma surrounding tobacco use and why tobacco recovery is so important. You will learn how to meet people where they are, avoid confrontation, listen actively, provide up-to-date information, and connect people with free and effective resources.<br><p><strong>Prior to registering, you must apply to be accepted into the course. Please click on this link to apply: <a href="https://redcap.kumc.edu/surveys/?s=M9TFDPHKMTHPNWWN">STaRT Application</a></strong></p><br><p><b>To get started, click on the link below for the enrollment period currently open and register your spot today!</b>\n\nEvent Schedule:\n\n6 mtg\n\nEvent Location:\n\nSelf-paced Online Training\nEnroll and start at any time\nOnline, WEB OTHER
LOCATION:Self-paced Online Training, Enroll and start at any time, Online, WEB, OTHER
SUMMARY:KU training session: Support for Tobacco Recovery Training (STaRT)
BEGIN:VALARM
TRIGGER:-P1D
REPEAT:4
DURATION:PT6H
ACTION:DISPLAY
END:VALARM
END:VEVENT
END:VCALENDAR