BEGIN:VCALENDAR
VERSION:2.0
PRODID:-//entrinsik//Enrole//EN
METHOD:PUBLISH
X-MS-OLK-FORCEINSPECTOROPEN:TRUE
BEGIN:VTIMEZONE
TZID:America/Chicago
BEGIN:STANDARD
DTSTART:20260308T020000
TZOFFSETFROM:-0600
TZOFFSETTO:-0500
END:STANDARD
BEGIN:DAYLIGHT
DTSTART:20261101T020000
TZOFFSETFROM:-0500
TZOFFSETTO:-0600
END:DAYLIGHT
END:VTIMEZONE
BEGIN:VEVENT
UID:20260422T220732Z-6D462490
PRIORITY:5
CLASS:PUBLIC
TRANSP:OPAQUE
SEQUENCE:0
DTSTAMP:20260422T220732Z
DTSTART;TZID=America/Chicago:20250101T000000
DTEND;TZID=America/Chicago:20250101T120000
RRULE:FREQ=MONTHLY;COUNT=6;INTERVAL=1;BYMONTHDAY=1
DESCRIPTION:Event:  ECHO ISPCTN Clinical Trials Certificate Training\n\nThe KUMC ECHO ISPCTN Clinical Trials 101 Certificate Course is FDA-Regulated.\n\nEvent Schedule:\n\n6 mtg\n\nEvent Location:\n\nSelf-paced Online Training\nEnroll and start at any time\nOnline, WEB OTHER
LOCATION:Self-paced Online Training, Enroll and start at any time, Online, WEB, OTHER
SUMMARY:KU training session: ECHO ISPCTN Clinical Trials Certificate Training
BEGIN:VALARM
TRIGGER:-P1D
REPEAT:4
DURATION:PT6H
ACTION:DISPLAY
END:VALARM
END:VEVENT
END:VCALENDAR