BEGIN:VCALENDAR
VERSION:2.0
PRODID:-//entrinsik//Enrole//EN
METHOD:PUBLISH
X-MS-OLK-FORCEINSPECTOROPEN:TRUE
BEGIN:VTIMEZONE
TZID:America/Chicago
BEGIN:STANDARD
DTSTART:20260308T020000
TZOFFSETFROM:-0600
TZOFFSETTO:-0500
END:STANDARD
BEGIN:DAYLIGHT
DTSTART:20261101T020000
TZOFFSETFROM:-0500
TZOFFSETTO:-0600
END:DAYLIGHT
END:VTIMEZONE
BEGIN:VEVENT
UID:20260425T194740Z-301DCC28
PRIORITY:5
CLASS:PUBLIC
TRANSP:OPAQUE
SEQUENCE:0
DTSTAMP:20260425T194740Z
DTSTART;TZID=America/Chicago:20260914T080000
DTEND;TZID=America/Chicago:20260914T160000
RRULE:FREQ=DAILY;COUNT=5;INTERVAL=1
DESCRIPTION:Event:  Flight Control and Hydraulic Systems\n\nThis course covers fundamental design issues, along with analysis and design methodologies for aerospace hydraulic and flight control systems. Topics include design requirements, component description and operation, component and system math modeling, component sizing, system layout rationale, system sizing and airframe integration. The course emphasizes the fundamentals and necessary engineering tools (both analytical and otherwise) needed to understand and design aerospace hydraulic and flight control systems.<br><br>Course preview webinar: <a target="_blank" href="https://lpe.ku.edu/future-flight-control-webinar-webform">The Future of Flight Control: A Flight Control Engineer's Perspective</a>\n\nEvent Schedule:\n\n5 mtg\n\nEvent Location:\n\nSan Diego Marriott Mission Valley\n8757 Rio San Diego Drive\nSan Diego, CA 92108
LOCATION:San Diego Marriott Mission Valley, 8757 Rio San Diego Drive, San Diego, CA, 92108
SUMMARY:KU training session: Flight Control and Hydraulic Systems
BEGIN:VALARM
TRIGGER:-P1D
REPEAT:4
DURATION:PT6H
ACTION:DISPLAY
END:VALARM
END:VEVENT
BEGIN:VEVENT
CLASS:PUBLIC
CREATED:20260425T194740Z
DTSTAMP:20260425T194740Z
LAST-MODIFIED:20260425T194740Z
DTSTART:20260918T080000
DTEND:20260918T113000
PRIORITY:5
RECURRENCE-ID:20260918
SEQUENCE:0
TRANSP:OPAQUE
UID:20260425T194740Z-301DCC28
END:VEVENT
END:VCALENDAR