BEGIN:VCALENDAR
VERSION:2.0
PRODID:-//entrinsik//Enrole//EN
METHOD:PUBLISH
X-MS-OLK-FORCEINSPECTOROPEN:TRUE
BEGIN:VTIMEZONE
TZID:America/Chicago
BEGIN:STANDARD
DTSTART:20260308T020000
TZOFFSETFROM:-0600
TZOFFSETTO:-0500
END:STANDARD
BEGIN:DAYLIGHT
DTSTART:20261101T020000
TZOFFSETFROM:-0500
TZOFFSETTO:-0600
END:DAYLIGHT
END:VTIMEZONE
BEGIN:VEVENT
UID:20260425T195112Z-2FCFDEF0
PRIORITY:5
CLASS:PUBLIC
TRANSP:OPAQUE
SEQUENCE:0
DTSTAMP:20260425T195112Z
DTSTART;TZID=America/Chicago:20260914T080000
DTEND;TZID=America/Chicago:20260914T160000
RRULE:FREQ=DAILY;COUNT=5;INTERVAL=1
DESCRIPTION:Event:  Operational Test and Evaluation: Customer-Focused Testing\n\nThis OT&amp;E course is designed to introduce students to the language, processes and assorted tools to estimate, plan, accomplish risk assessment, provision, conduct, analyze and report on operational tests.<br /><br /><small><span style="color: #993300;">\n\nEvent Schedule:\n\n5 mtg\n\nEvent Location:\n\nSan Diego Marriott Mission Valley\n8757 Rio San Diego Drive\nSan Diego, CA 92108
LOCATION:San Diego Marriott Mission Valley, 8757 Rio San Diego Drive, San Diego, CA, 92108
SUMMARY:KU training session: Operational Test and Evaluation: Customer-Focused Testing
BEGIN:VALARM
TRIGGER:-P1D
REPEAT:4
DURATION:PT6H
ACTION:DISPLAY
END:VALARM
END:VEVENT
END:VCALENDAR