BEGIN:VCALENDAR
VERSION:2.0
PRODID:-//entrinsik//Enrole//EN
METHOD:PUBLISH
X-MS-OLK-FORCEINSPECTOROPEN:TRUE
BEGIN:VTIMEZONE
TZID:America/Chicago
BEGIN:STANDARD
DTSTART:20260308T020000
TZOFFSETFROM:-0600
TZOFFSETTO:-0500
END:STANDARD
BEGIN:DAYLIGHT
DTSTART:20261101T020000
TZOFFSETFROM:-0500
TZOFFSETTO:-0600
END:DAYLIGHT
END:VTIMEZONE
BEGIN:VEVENT
UID:20260425T200134Z-2FC20BE0
PRIORITY:5
CLASS:PUBLIC
TRANSP:OPAQUE
SEQUENCE:0
DTSTAMP:20260425T200134Z
DTSTART;TZID=America/Chicago:20260914T080000
DTEND;TZID=America/Chicago:20260914T160000
RRULE:FREQ=DAILY;COUNT=5;INTERVAL=1
DESCRIPTION:Event:  Structural Composites\n\nThis course provides an introduction to high-performance composite materials, covering both engineering and manufacturing of composite parts and assemblies, basic material properties of the constituents (fiber and matrix), how they combine to form plies, or lamina, how to obtain lamina properties, how laminae are combined to form laminates and how to obtain the laminate properties. Other engineering topics include stress analysis, failure criteria and testing methods.<br><br>Course preview webinar: <a target="_blank" href="https://jayhawkglobal.ku.edu/webinar-advances-composite-aircraft-manufacturing">Advances in Composite Aircraft Manufacturing</a>\n\nEvent Schedule:\n\n5 mtg\n\nEvent Location:\n\nSan Diego Marriott Mission Valley\n8757 Rio San Diego Drive\nSan Diego, CA 92108
LOCATION:San Diego Marriott Mission Valley, 8757 Rio San Diego Drive, San Diego, CA, 92108
SUMMARY:KU training session: Structural Composites
BEGIN:VALARM
TRIGGER:-P1D
REPEAT:4
DURATION:PT6H
ACTION:DISPLAY
END:VALARM
END:VEVENT
END:VCALENDAR