BEGIN:VCALENDAR
VERSION:2.0
PRODID:-//entrinsik//Enrole//EN
METHOD:PUBLISH
X-MS-OLK-FORCEINSPECTOROPEN:TRUE
BEGIN:VTIMEZONE
TZID:America/Chicago
BEGIN:STANDARD
DTSTART:20260308T020000
TZOFFSETFROM:-0600
TZOFFSETTO:-0500
END:STANDARD
BEGIN:DAYLIGHT
DTSTART:20261101T020000
TZOFFSETFROM:-0500
TZOFFSETTO:-0600
END:DAYLIGHT
END:VTIMEZONE
BEGIN:VEVENT
UID:20260422T054734Z-E3F78C88
PRIORITY:5
CLASS:PUBLIC
TRANSP:OPAQUE
SEQUENCE:0
DTSTAMP:20260422T054734Z
DTSTART;TZID=America/Chicago:20260427T100000
DTEND;TZID=America/Chicago:20260427T120000
RRULE:FREQ=WEEKLY;COUNT=3;INTERVAL=1;BYDAY=MO
DESCRIPTION:Event:  The Life and Music of George Gershwin\n\nOne of the leading musical figures in the history of the United States, George Gershwin (1898 - 1937) combined influences from Tin Pan Alley, classical music, jazz and blues into a distinctive musical style heard in his numerous Broadway musicals, songs for Hollywood films and concert works. This course explores his biography and each aspect of his musical output. Emphasis will be placed on two of his musicals ("Girl Crazy" and "Of Thee I Sing"); his opera "Porgy and Bess"; and the concert works "Rhapsody in Blue," "Piano Concerto in F" and the tone poem, "An American in Paris."<div><br><div><b>Instructor Bio: Paul Laird</b> is professor emeritus of musicology at the University of Kansas, where two of his teaching specialties were Baroque music and music of the United States. He has published widely on such topics as Leonard Bernstein and American musical theater and won the 2021 KU Chancellor's Club Career Teaching Award. Paul has taught many Osher classes since the program's inception at KU.\n\nEvent Schedule:\n\n3 mtg\n\nEvent Location:\n\nSt Andrews Classroom\n1515 St. Andrews Drive\nLawrence, KS 66047
LOCATION:St Andrews Classroom, 1515 St. Andrews Drive, Lawrence, KS, 66047
SUMMARY:KU training session: The Life and Music of George Gershwin
BEGIN:VALARM
TRIGGER:-P1D
REPEAT:4
DURATION:PT6H
ACTION:DISPLAY
END:VALARM
END:VEVENT
END:VCALENDAR