BEGIN:VCALENDAR
VERSION:2.0
PRODID:-//entrinsik//Enrole//EN
METHOD:PUBLISH
X-MS-OLK-FORCEINSPECTOROPEN:TRUE
BEGIN:VTIMEZONE
TZID:America/Chicago
BEGIN:STANDARD
DTSTART:20260308T020000
TZOFFSETFROM:-0600
TZOFFSETTO:-0500
END:STANDARD
BEGIN:DAYLIGHT
DTSTART:20261101T020000
TZOFFSETFROM:-0500
TZOFFSETTO:-0600
END:DAYLIGHT
END:VTIMEZONE
BEGIN:VEVENT
UID:20260420T235511Z-BB04C718
PRIORITY:5
CLASS:PUBLIC
TRANSP:OPAQUE
SEQUENCE:0
DTSTAMP:20260420T235511Z
DTSTART;TZID=America/Chicago:20261001T090000
DTEND;TZID=America/Chicago:20261001T150000
DESCRIPTION:Event:  Gold Shield Signature Lecture Series 2026: Asymmetrical Leadership - Displaying the Mindset, Heartset, and Actions of a Leader at Any Level\n\nAsymmetrical Leadership empowers professionals at every level to lead beyond rank. Grounded in proven leadership principles, this session explores how mindset, character, and intentional action can elevate influence, strengthen teams, and inspire excellence across organizations.\n\nEvent Schedule:\n\n1 mtg\n\nEvent Location:\n\nBEST Conference Center\n12604 Quivira Road\nOverland Park, KS 66213
LOCATION:BEST Conference Center, 12604 Quivira Road, Overland Park, KS, 66213
SUMMARY:KU training session: Gold Shield Signature Lecture Series 2026: Asymmetrical Leadership - Displaying the Mindset, Heartset, and Actions of a Leader at Any Level
BEGIN:VALARM
TRIGGER:-P1D
REPEAT:4
DURATION:PT6H
ACTION:DISPLAY
END:VALARM
END:VEVENT
END:VCALENDAR