BEGIN:VCALENDAR
VERSION:2.0
PRODID:-//entrinsik//Enrole//EN
METHOD:PUBLISH
X-MS-OLK-FORCEINSPECTOROPEN:TRUE
BEGIN:VTIMEZONE
TZID:America/Chicago
BEGIN:STANDARD
DTSTART:20260308T020000
TZOFFSETFROM:-0600
TZOFFSETTO:-0500
END:STANDARD
BEGIN:DAYLIGHT
DTSTART:20261101T020000
TZOFFSETFROM:-0500
TZOFFSETTO:-0600
END:DAYLIGHT
END:VTIMEZONE
BEGIN:VEVENT
UID:20260420T235424Z-7036710
PRIORITY:5
CLASS:PUBLIC
TRANSP:OPAQUE
SEQUENCE:0
DTSTAMP:20260420T235424Z
DTSTART;TZID=America/Chicago:20261110T083000
DTEND;TZID=America/Chicago:20261110T153000
DESCRIPTION:Event:  Safe Schools, Strong Futures: A Roadmap to Threat Preparedness\n\nThis workshop brings together education and public safety partners to strengthen threat preparedness, coordination, and response planning in Kansas schools. Participants gain practical tools, shared procedures, and access to statewide resources that enhance collaboration and school safety.\n\nEvent Schedule:\n\n1 mtg\n\nEvent Location:\n\nIntegrity Auditorium\n11009 S. Hornet Road\nHutchinson, KS 67501
LOCATION:Integrity Auditorium, 11009 S. Hornet Road, Hutchinson, KS, 67501
SUMMARY:KU training session: Safe Schools, Strong Futures: A Roadmap to Threat Preparedness
BEGIN:VALARM
TRIGGER:-P1D
REPEAT:4
DURATION:PT6H
ACTION:DISPLAY
END:VALARM
END:VEVENT
END:VCALENDAR