BEGIN:VCALENDAR
VERSION:2.0
PRODID:-//entrinsik//Enrole//EN
METHOD:PUBLISH
X-MS-OLK-FORCEINSPECTOROPEN:TRUE
BEGIN:VTIMEZONE
TZID:America/Chicago
BEGIN:STANDARD
DTSTART:20260308T020000
TZOFFSETFROM:-0600
TZOFFSETTO:-0500
END:STANDARD
BEGIN:DAYLIGHT
DTSTART:20261101T020000
TZOFFSETFROM:-0500
TZOFFSETTO:-0600
END:DAYLIGHT
END:VTIMEZONE
BEGIN:VEVENT
UID:20260420T235321Z-BA5D5FA0
PRIORITY:5
CLASS:PUBLIC
TRANSP:OPAQUE
SEQUENCE:0
DTSTAMP:20260420T235321Z
DTSTART;TZID=America/Chicago:20260519T090000
DTEND;TZID=America/Chicago:20260519T150000
DESCRIPTION:Event:  Gold Shield Signature Lecture Series 2026: Recruiting the Next Generation - Run Your Agency Like a Business\n\nRecruiting the Next Generation challenges law enforcement leaders to rethink recruitment and retention as strategic leadership functions. This session explores how agencies can apply private sector principles to build strong cultures, attract top talent, and sustain performance in a competitive workforce environment.\n\nEvent Schedule:\n\n1 mtg\n\nEvent Location:\n\nBEST Conference Center\n12604 Quivira Road\nOverland Park, KS 66213
LOCATION:BEST Conference Center, 12604 Quivira Road, Overland Park, KS, 66213
SUMMARY:KU training session: Gold Shield Signature Lecture Series 2026: Recruiting the Next Generation - Run Your Agency Like a Business
BEGIN:VALARM
TRIGGER:-P1D
REPEAT:4
DURATION:PT6H
ACTION:DISPLAY
END:VALARM
END:VEVENT
END:VCALENDAR