BEGIN:VCALENDAR
VERSION:2.0
PRODID:-//entrinsik//Enrole//EN
METHOD:PUBLISH
X-MS-OLK-FORCEINSPECTOROPEN:TRUE
BEGIN:VTIMEZONE
TZID:America/Chicago
BEGIN:STANDARD
DTSTART:20260308T020000
TZOFFSETFROM:-0600
TZOFFSETTO:-0500
END:STANDARD
BEGIN:DAYLIGHT
DTSTART:20261101T020000
TZOFFSETFROM:-0500
TZOFFSETTO:-0600
END:DAYLIGHT
END:VTIMEZONE
BEGIN:VEVENT
UID:20260420T235409Z-BA127FA8
PRIORITY:5
CLASS:PUBLIC
TRANSP:OPAQUE
SEQUENCE:0
DTSTAMP:20260420T235409Z
DTSTART;TZID=America/Chicago:20260518T090000
DTEND;TZID=America/Chicago:20260518T150000
DESCRIPTION:Event:  Gold Shield Signature Lecture Series 2026: Recruiting the Next Generation - Run Your Agency Like a Business\n\nRecruiting the Next Generation challenges law enforcement leaders to rethink recruitment and retention as strategic leadership functions. This session explores how agencies can apply private sector principles to build strong cultures, attract top talent, and sustain performance in a competitive workforce environment.\n\nEvent Schedule:\n\n1 mtg\n\nEvent Location:\n\nIntegrity Auditorium\n11009 S. Hornet Road\nHutchinson, KS 67501
LOCATION:Integrity Auditorium, 11009 S. Hornet Road, Hutchinson, KS, 67501
SUMMARY:KU training session: Gold Shield Signature Lecture Series 2026: Recruiting the Next Generation - Run Your Agency Like a Business
BEGIN:VALARM
TRIGGER:-P1D
REPEAT:4
DURATION:PT6H
ACTION:DISPLAY
END:VALARM
END:VEVENT
END:VCALENDAR