BEGIN:VCALENDAR
VERSION:2.0
PRODID:-//entrinsik//Enrole//EN
METHOD:PUBLISH
X-MS-OLK-FORCEINSPECTOROPEN:TRUE
BEGIN:VTIMEZONE
TZID:America/Chicago
BEGIN:STANDARD
DTSTART:20260308T020000
TZOFFSETFROM:-0600
TZOFFSETTO:-0500
END:STANDARD
BEGIN:DAYLIGHT
DTSTART:20261101T020000
TZOFFSETFROM:-0500
TZOFFSETTO:-0600
END:DAYLIGHT
END:VTIMEZONE
BEGIN:VEVENT
UID:20260420T235409Z-3F6C9088
PRIORITY:5
CLASS:PUBLIC
TRANSP:OPAQUE
SEQUENCE:0
DTSTAMP:20260420T235409Z
DTSTART;TZID=America/Chicago:20260505T080000
DTEND;TZID=America/Chicago:20260505T170000
RRULE:FREQ=DAILY;COUNT=3;INTERVAL=1
DESCRIPTION:Event:  Child Passenger Safety Technician Course\n\nThe majority of car seats are installed incorrectly. To help parents and caregivers ensure children are as safe as possible in vehicles, KTSRO hosts Child Passenger Safety Technician Training courses around Kansas throughout the year.  <b><p><p>Please register at:  <a href="https://portalskcms.cyzap.net/dzapps/dbzap.bin/apps/assess/webmembers/secure/manage?webid=SKCMS&pToolCode=COURSE-SEARCH&pToolCmd=Details&pPrint=Yes&pSys=&pSignupID=&pProgramID=CMS-COURSE-6715"><font color="red">National Child Passenger Safety Certification</font></a></p></b><p>\n\nEvent Schedule:\n\n3 mtg\n\nEvent Location:\n\nEdwards Campus KLETC Regional Site\n12600 Quivira Road - Regents Building\nOverland Park, KS 66213
LOCATION:Edwards Campus KLETC Regional Site, 12600 Quivira Road - Regents Building, Overland Park, KS, 66213
SUMMARY:KU training session: Child Passenger Safety Technician Course
BEGIN:VALARM
TRIGGER:-P1D
REPEAT:4
DURATION:PT6H
ACTION:DISPLAY
END:VALARM
END:VEVENT
END:VCALENDAR