BEGIN:VCALENDAR
VERSION:2.0
PRODID:-//entrinsik//Enrole//EN
METHOD:PUBLISH
X-MS-OLK-FORCEINSPECTOROPEN:TRUE
BEGIN:VTIMEZONE
TZID:America/Chicago
BEGIN:STANDARD
DTSTART:20260308T020000
TZOFFSETFROM:-0600
TZOFFSETTO:-0500
END:STANDARD
BEGIN:DAYLIGHT
DTSTART:20261101T020000
TZOFFSETFROM:-0500
TZOFFSETTO:-0600
END:DAYLIGHT
END:VTIMEZONE
BEGIN:VEVENT
UID:20260422T071217Z-A301D5A8
PRIORITY:5
CLASS:PUBLIC
TRANSP:OPAQUE
SEQUENCE:0
DTSTAMP:20260422T071217Z
DTSTART;TZID=America/Chicago:20260514T123000
DTEND;TZID=America/Chicago:20260514T163000
DESCRIPTION:Event:  2026 KBI Laboratory Capabilities: Chemical Analysis Series - Seized Drugs, Toxicology, and Trace\n\nThis Kansas Bureau of Investigation laboratory training provides law enforcement and court services personnel with an overview of chemical analysis services, including seized drugs, toxicology, and trace evidence. Participants will learn best practices for evidence submission and packaging, understand laboratory capabilities, and gain insight into interpreting forensic reports that support impaired driving cases, drug investigations, and other criminal inquiries.\n\nEvent Schedule:\n\n1 mtg\n\nEvent Location:\n\nZoom Facilitated Sessions\nMeets live online\nOnline, WEB OTHER
LOCATION:Zoom Facilitated Sessions, Meets live online, Online, WEB, OTHER
SUMMARY:KU training session: 2026 KBI Laboratory Capabilities: Chemical Analysis Series - Seized Drugs, Toxicology, and Trace
BEGIN:VALARM
TRIGGER:-P1D
REPEAT:4
DURATION:PT6H
ACTION:DISPLAY
END:VALARM
END:VEVENT
END:VCALENDAR