BEGIN:VCALENDAR
VERSION:2.0
PRODID:-//entrinsik//Enrole//EN
METHOD:PUBLISH
X-MS-OLK-FORCEINSPECTOROPEN:TRUE
BEGIN:VTIMEZONE
TZID:America/Chicago
BEGIN:STANDARD
DTSTART:20260308T020000
TZOFFSETFROM:-0600
TZOFFSETTO:-0500
END:STANDARD
BEGIN:DAYLIGHT
DTSTART:20261101T020000
TZOFFSETFROM:-0500
TZOFFSETTO:-0600
END:DAYLIGHT
END:VTIMEZONE
BEGIN:VEVENT
UID:20260422T131223Z-9FC62D50
PRIORITY:5
CLASS:PUBLIC
TRANSP:OPAQUE
SEQUENCE:0
DTSTAMP:20260422T131223Z
DTSTART;TZID=America/Chicago:20260917T080000
DTEND;TZID=America/Chicago:20260917T170000
RRULE:FREQ=DAILY;COUNT=2;INTERVAL=1
DESCRIPTION:Event:  Incident Safety Officer\n\nThis IFSAC and Pro Board certification course addresses NFPA 1550, Chapter 5, covering the knowledge, skills, and responsibilities of the Incident Safety Officer at emergency scenes. Designed for fire officers, company officers, and senior firefighters.\n\nEvent Schedule:\n\n2 mtg\n\nEvent Location:\n\nAndover Fire and Rescue Sta 2\n650 S Andover Rd\nAndover, KS 67002
LOCATION:Andover Fire and Rescue Sta 2, 650 S Andover Rd, Andover, KS, 67002
SUMMARY:KU training session: Incident Safety Officer
BEGIN:VALARM
TRIGGER:-P1D
REPEAT:4
DURATION:PT6H
ACTION:DISPLAY
END:VALARM
END:VEVENT
END:VCALENDAR