BEGIN:VCALENDAR
VERSION:2.0
PRODID:-//entrinsik//Enrole//EN
METHOD:PUBLISH
X-MS-OLK-FORCEINSPECTOROPEN:TRUE
BEGIN:VTIMEZONE
TZID:America/Chicago
BEGIN:STANDARD
DTSTART:20260308T020000
TZOFFSETFROM:-0600
TZOFFSETTO:-0500
END:STANDARD
BEGIN:DAYLIGHT
DTSTART:20261101T020000
TZOFFSETFROM:-0500
TZOFFSETTO:-0600
END:DAYLIGHT
END:VTIMEZONE
BEGIN:VEVENT
UID:20260419T064919Z-84A7D70
PRIORITY:5
CLASS:PUBLIC
TRANSP:OPAQUE
SEQUENCE:0
DTSTAMP:20260419T064919Z
DTSTART;TZID=America/Chicago:20260902T090000
DTEND;TZID=America/Chicago:20260902T170000
RRULE:FREQ=DAILY;COUNT=3;INTERVAL=1
DESCRIPTION:Event:  Fire Officer 2 Training\n\nThis IFSAC and Pro Board certification course addresses NFPA 1020, Chapter 10, Standard for Fire Officer Professional Qualifications for Fire Officer II. Designed for company officers seeking to enhance their knowledge, skills, and abilities while preparing to advance in rank and responsibility.\n\nEvent Schedule:\n\n3 mtg\n\nEvent Location:\n\nManhattan Fire Dept\n2000 Denison Ave\nManhattan, KS 66502
LOCATION:Manhattan Fire Dept, 2000 Denison Ave, Manhattan, KS, 66502
SUMMARY:KU training session: Fire Officer 2 Training
BEGIN:VALARM
TRIGGER:-P1D
REPEAT:4
DURATION:PT6H
ACTION:DISPLAY
END:VALARM
END:VEVENT
END:VCALENDAR