BEGIN:VCALENDAR
VERSION:2.0
PRODID:-//entrinsik//Enrole//EN
METHOD:PUBLISH
X-MS-OLK-FORCEINSPECTOROPEN:TRUE
BEGIN:VTIMEZONE
TZID:America/Chicago
BEGIN:STANDARD
DTSTART:20260308T020000
TZOFFSETFROM:-0600
TZOFFSETTO:-0500
END:STANDARD
BEGIN:DAYLIGHT
DTSTART:20261101T020000
TZOFFSETFROM:-0500
TZOFFSETTO:-0600
END:DAYLIGHT
END:VTIMEZONE
BEGIN:VEVENT
UID:20260419T190016Z-8382DF0
PRIORITY:5
CLASS:PUBLIC
TRANSP:OPAQUE
SEQUENCE:0
DTSTAMP:20260419T190016Z
DTSTART;TZID=America/Chicago:20260720T090000
DTEND;TZID=America/Chicago:20260720T170000
RRULE:FREQ=DAILY;COUNT=5;INTERVAL=1
DESCRIPTION:Event:  Fire Officer 1 Training\n\nThis IFSAC and Pro Board certification course addresses NFPA 1020, Chapter 9, Standard for Fire Officer Professional Qualifications for Fire Officer I. The focus is on management, leadership, emergency scene operations, and human relations concepts.\n\nEvent Schedule:\n\n5 mtg\n\nEvent Location:\n\nLawrence-Douglas County Fire Medical-Jayhawk Room\n1911 Stewart Ave\nLawrence, KS 66046
LOCATION:Lawrence-Douglas County Fire Medical-Jayhawk Room, 1911 Stewart Ave, Lawrence, KS, 66046
SUMMARY:KU training session: Fire Officer 1 Training
BEGIN:VALARM
TRIGGER:-P1D
REPEAT:4
DURATION:PT6H
ACTION:DISPLAY
END:VALARM
END:VEVENT
END:VCALENDAR