BEGIN:VCALENDAR
VERSION:2.0
PRODID:-//entrinsik//Enrole//EN
METHOD:PUBLISH
X-MS-OLK-FORCEINSPECTOROPEN:TRUE
BEGIN:VTIMEZONE
TZID:America/Chicago
BEGIN:STANDARD
DTSTART:20260308T020000
TZOFFSETFROM:-0600
TZOFFSETTO:-0500
END:STANDARD
BEGIN:DAYLIGHT
DTSTART:20261101T020000
TZOFFSETFROM:-0500
TZOFFSETTO:-0600
END:DAYLIGHT
END:VTIMEZONE
BEGIN:VEVENT
UID:20260419T165858Z-7B57B4E0
PRIORITY:5
CLASS:PUBLIC
TRANSP:OPAQUE
SEQUENCE:0
DTSTAMP:20260419T165858Z
DTSTART;TZID=America/Chicago:20260620T080000
DTEND;TZID=America/Chicago:20260620T170000
DESCRIPTION:Event:  Firefighter Skills Training\n\nFirefighter Skills Training teaches the skills best described as "destructive" skills included in Fire Fighter I and other basic firefighter training courses.\n\nEvent Schedule:\n\n1 mtg\n\nEvent Location:\n\nMarysville Fire Dept\n209 N 8th\nMarysville, KS 66508
LOCATION:Marysville Fire Dept, 209 N 8th, Marysville, KS, 66508
SUMMARY:KU training session: Firefighter Skills Training
BEGIN:VALARM
TRIGGER:-P1D
REPEAT:4
DURATION:PT6H
ACTION:DISPLAY
END:VALARM
END:VEVENT
END:VCALENDAR