BEGIN:VCALENDAR
VERSION:2.0
PRODID:-//entrinsik//Enrole//EN
METHOD:PUBLISH
X-MS-OLK-FORCEINSPECTOROPEN:TRUE
BEGIN:VTIMEZONE
TZID:America/Chicago
BEGIN:STANDARD
DTSTART:20260308T020000
TZOFFSETFROM:-0600
TZOFFSETTO:-0500
END:STANDARD
BEGIN:DAYLIGHT
DTSTART:20261101T020000
TZOFFSETFROM:-0500
TZOFFSETTO:-0600
END:DAYLIGHT
END:VTIMEZONE
BEGIN:VEVENT
UID:20260419T135105Z-A0D22EB0
PRIORITY:5
CLASS:PUBLIC
TRANSP:OPAQUE
SEQUENCE:0
DTSTAMP:20260419T135105Z
DTSTART;TZID=America/Chicago:20260406T080000
DTEND;TZID=America/Chicago:20260406T220000
RRULE:FREQ=DAILY;COUNT=56;INTERVAL=1
DESCRIPTION:Event:  Hazardous Materials Awareness Training (Online Course)     In Compliance with NFPA 470 and OSHA 1910.146\n\nThis online course will enable participants to: recognize the presence or potential presence of hazardous materials.\n\nEvent Schedule:\n\n56 mtg\n\nEvent Location:\n\n\n\n,  
LOCATION:, , , , 
SUMMARY:KU training session: Hazardous Materials Awareness Training (Online Course)     In Compliance with NFPA 470 and OSHA 1910.146
BEGIN:VALARM
TRIGGER:-P1D
REPEAT:4
DURATION:PT6H
ACTION:DISPLAY
END:VALARM
END:VEVENT
END:VCALENDAR