BEGIN:VCALENDAR
VERSION:2.0
PRODID:-//entrinsik//Enrole//EN
METHOD:PUBLISH
X-MS-OLK-FORCEINSPECTOROPEN:TRUE
BEGIN:VTIMEZONE
TZID:America/Chicago
BEGIN:STANDARD
DTSTART:20260308T020000
TZOFFSETFROM:-0600
TZOFFSETTO:-0500
END:STANDARD
BEGIN:DAYLIGHT
DTSTART:20261101T020000
TZOFFSETFROM:-0500
TZOFFSETTO:-0600
END:DAYLIGHT
END:VTIMEZONE
BEGIN:VEVENT
UID:20260422T070937Z-BB5C58F8
PRIORITY:5
CLASS:PUBLIC
TRANSP:OPAQUE
SEQUENCE:0
DTSTAMP:20260422T070937Z
DTSTART;TZID=America/Chicago:20260502T080000
DTEND;TZID=America/Chicago:20260502T170000
DESCRIPTION:Event:  Hazardous Materials Operations National Certification\n\n<b>CERTIFICATION EXAM</b> for Hazardous Materials Operations Level, accredited by IFSAC and ProBoard\n\nEvent Schedule:\n\n1 mtg\n\nEvent Location:\n\nHesston Fire Dept\n115 E Smith St\nHesston, KS 67062
LOCATION:Hesston Fire Dept, 115 E Smith St, Hesston, KS, 67062
SUMMARY:KU training session: Hazardous Materials Operations National Certification
BEGIN:VALARM
TRIGGER:-P1D
REPEAT:4
DURATION:PT6H
ACTION:DISPLAY
END:VALARM
END:VEVENT
END:VCALENDAR