BEGIN:VCALENDAR
VERSION:2.0
PRODID:-//entrinsik//Enrole//EN
METHOD:PUBLISH
X-MS-OLK-FORCEINSPECTOROPEN:TRUE
BEGIN:VTIMEZONE
TZID:America/Chicago
BEGIN:STANDARD
DTSTART:20260308T020000
TZOFFSETFROM:-0600
TZOFFSETTO:-0500
END:STANDARD
BEGIN:DAYLIGHT
DTSTART:20261101T020000
TZOFFSETFROM:-0500
TZOFFSETTO:-0600
END:DAYLIGHT
END:VTIMEZONE
BEGIN:VEVENT
UID:20260419T064054Z-F627F3E8
PRIORITY:5
CLASS:PUBLIC
TRANSP:OPAQUE
SEQUENCE:0
DTSTAMP:20260419T064054Z
DTSTART;TZID=America/Chicago:20260522T080000
DTEND;TZID=America/Chicago:20260522T170000
DESCRIPTION:Event:  Rope Rescue Awareness/Operations National Certification\n\n<b>CERTIFICATION EXAM</b> for Rope Rescue Operations, NFPA 1006, 2021 Edition, Chapter 5.1 and 5.2, covering Rope Rescue Awareness and Rope Rescue Operations. Accredited by IFSAC and ProBoard.\n\nEvent Schedule:\n\n1 mtg\n\nEvent Location:\n\nTopeka Fire Dept\n324 SE Jefferson\nTopeka, KS 66607
LOCATION:Topeka Fire Dept, 324 SE Jefferson, Topeka, KS, 66607
SUMMARY:KU training session: Rope Rescue Awareness/Operations National Certification
BEGIN:VALARM
TRIGGER:-P1D
REPEAT:4
DURATION:PT6H
ACTION:DISPLAY
END:VALARM
END:VEVENT
END:VCALENDAR