BEGIN:VCALENDAR
VERSION:2.0
PRODID:-//entrinsik//Enrole//EN
METHOD:PUBLISH
X-MS-OLK-FORCEINSPECTOROPEN:TRUE
BEGIN:VTIMEZONE
TZID:America/Chicago
BEGIN:STANDARD
DTSTART:20260308T020000
TZOFFSETFROM:-0600
TZOFFSETTO:-0500
END:STANDARD
BEGIN:DAYLIGHT
DTSTART:20261101T020000
TZOFFSETFROM:-0500
TZOFFSETTO:-0600
END:DAYLIGHT
END:VTIMEZONE
BEGIN:VEVENT
UID:20260422T070938Z-F3D79F30
PRIORITY:5
CLASS:PUBLIC
TRANSP:OPAQUE
SEQUENCE:0
DTSTAMP:20260422T070938Z
DTSTART;TZID=America/Chicago:20260508T150000
DTEND;TZID=America/Chicago:20260508T170000
DESCRIPTION:Event:  First Responder Inspector National Certification\n\n<b>CERTIFICATION EXAM</b> for First Responder Inspector, accredited by IFSAC and ProBoard\n\nEvent Schedule:\n\n1 mtg\n\nEvent Location:\n\nDodge City Fire Dept Training Facility\n2101 1st Ave\nDodge City, KS 67801
LOCATION:Dodge City Fire Dept Training Facility, 2101 1st Ave, Dodge City, KS, 67801
SUMMARY:KU training session: First Responder Inspector National Certification
BEGIN:VALARM
TRIGGER:-P1D
REPEAT:4
DURATION:PT6H
ACTION:DISPLAY
END:VALARM
END:VEVENT
END:VCALENDAR